BEGIN:VCALENDAR
VERSION:2.0
PRODID:-//Indy Dive Center - ECPv6.15.20//NONSGML v1.0//EN
CALSCALE:GREGORIAN
METHOD:PUBLISH
X-ORIGINAL-URL:https://diveindy.com
X-WR-CALDESC:Events for Indy Dive Center
REFRESH-INTERVAL;VALUE=DURATION:PT1H
X-Robots-Tag:noindex
X-PUBLISHED-TTL:PT1H
BEGIN:VTIMEZONE
TZID:America/Indiana/Indianapolis
BEGIN:DAYLIGHT
TZOFFSETFROM:-0500
TZOFFSETTO:-0400
TZNAME:EDT
DTSTART:20250309T070000
END:DAYLIGHT
BEGIN:STANDARD
TZOFFSETFROM:-0400
TZOFFSETTO:-0500
TZNAME:EST
DTSTART:20251102T060000
END:STANDARD
BEGIN:DAYLIGHT
TZOFFSETFROM:-0500
TZOFFSETTO:-0400
TZNAME:EDT
DTSTART:20260308T070000
END:DAYLIGHT
BEGIN:STANDARD
TZOFFSETFROM:-0400
TZOFFSETTO:-0500
TZNAME:EST
DTSTART:20261101T060000
END:STANDARD
BEGIN:DAYLIGHT
TZOFFSETFROM:-0500
TZOFFSETTO:-0400
TZNAME:EDT
DTSTART:20270314T070000
END:DAYLIGHT
BEGIN:STANDARD
TZOFFSETFROM:-0400
TZOFFSETTO:-0500
TZNAME:EST
DTSTART:20271107T060000
END:STANDARD
END:VTIMEZONE
BEGIN:VEVENT
DTSTART;TZID=America/Indiana/Indianapolis:20260426T120000
DTEND;TZID=America/Indiana/Indianapolis:20260426T160000
DTSTAMP:20260420T013604
CREATED:20260408T195526Z
LAST-MODIFIED:20260408T195528Z
UID:6318-1777204800-1777219200@diveindy.com
SUMMARY:2026 Early Birds Dive
DESCRIPTION:Ok early birds…Let’s go diving!\n\nIndy Dive Center will be open for those divers who are ready to be the first to hit the water on Sunday\, April 26th from 12:00pm – 4:00pm for regular diving.\nMost all of our dive team will be on site preparing for the upcoming season.\n\nCome and introduce yourself\, meet new buddies\, and be the first to dive France Park for the 2026 Season! The water will be beautiful and the Paddlefish will be slow(er).\n\nNote: Water will still be chilly for this event.Full 7mm wetsuits\, hoods\, and gloves are minimum recommended thermal protection for this dive.Full 7mm suits are available on site to rent for $20/ day.\n\nDon’t forget to sign your digital waiver prior to arrival!\n\nRegular admission and gate fees apply.
URL:https://diveindy.com/event/2026-early-birds-dive/
LOCATION:France Park\, 4505 US-24\, Logansport\, IN\, 46947\, United States
CATEGORIES:Calendar,Event
ATTACH;FMTTYPE=image/jpeg:https://diveindy.com/wp-content/uploads/2024/03/430096019_917978087002396_7677610716883900544_n.jpg
ORGANIZER;CN="Indy Dive Center":MAILTO:support@diveindy.com
END:VEVENT
END:VCALENDAR