BEGIN:VCALENDAR
VERSION:2.0
PRODID:-//Indy Dive Center - ECPv6.15.20//NONSGML v1.0//EN
CALSCALE:GREGORIAN
METHOD:PUBLISH
X-WR-CALNAME:Indy Dive Center
X-ORIGINAL-URL:https://diveindy.com
X-WR-CALDESC:Events for Indy Dive Center
REFRESH-INTERVAL;VALUE=DURATION:PT1H
X-Robots-Tag:noindex
X-PUBLISHED-TTL:PT1H
BEGIN:VTIMEZONE
TZID:America/Indiana/Indianapolis
BEGIN:DAYLIGHT
TZOFFSETFROM:-0500
TZOFFSETTO:-0400
TZNAME:EDT
DTSTART:20240310T070000
END:DAYLIGHT
BEGIN:STANDARD
TZOFFSETFROM:-0400
TZOFFSETTO:-0500
TZNAME:EST
DTSTART:20241103T060000
END:STANDARD
BEGIN:DAYLIGHT
TZOFFSETFROM:-0500
TZOFFSETTO:-0400
TZNAME:EDT
DTSTART:20250309T070000
END:DAYLIGHT
BEGIN:STANDARD
TZOFFSETFROM:-0400
TZOFFSETTO:-0500
TZNAME:EST
DTSTART:20251102T060000
END:STANDARD
BEGIN:DAYLIGHT
TZOFFSETFROM:-0500
TZOFFSETTO:-0400
TZNAME:EDT
DTSTART:20260308T070000
END:DAYLIGHT
BEGIN:STANDARD
TZOFFSETFROM:-0400
TZOFFSETTO:-0500
TZNAME:EST
DTSTART:20261101T060000
END:STANDARD
END:VTIMEZONE
BEGIN:VEVENT
DTSTART;TZID=America/Indiana/Indianapolis:20251207T100000
DTEND;TZID=America/Indiana/Indianapolis:20251207T140000
DTSTAMP:20260422T100303
CREATED:20250819T210722Z
LAST-MODIFIED:20250819T210723Z
UID:5766-1765101600-1765116000@diveindy.com
SUMMARY:2025 Annual Christmas Tree Sinking and Paddlefish Dive
DESCRIPTION:Join us for our annual Christmas Tree Sinking and Cold Water Dive!We will open from 10am – 2pm on December 7th\, 2025 to enjoy some beautiful visibility in the chilly water\, enjoy the Paddlefish when they are a bit slower\, and sink a Christmas for the fish to enjoy. Some divers even decorate the tree with fish food. \n\nMinimum thermal protection recommended for this dive is full 7mm with hood and gloves. It’s a good day for dry suit! \nFull 7mm wetsuits are available for rent onsite for $20 per day\, however hoods and gloves are not available on site.\n\nHope to see everyone there so that we can tell you all HAPPY HOLIDAYS and THANK YOU FOR DIVING WITH US IN 2025!
URL:https://diveindy.com/event/2025-annual-christmas-tree-sinking-and-paddlefish-dive/
LOCATION:France Park\, 4505 US-24\, Logansport\, IN\, 46947\, United States
CATEGORIES:Calendar,Event
ATTACH;FMTTYPE=image/jpeg:https://diveindy.com/wp-content/uploads/2025/08/cold-water-paddlefish-icon.jpg
ORGANIZER;CN="Indy Dive Center":MAILTO:support@diveindy.com
END:VEVENT
BEGIN:VEVENT
DTSTART;TZID=America/Indiana/Indianapolis:20251213T110000
DTEND;TZID=America/Indiana/Indianapolis:20251213T160000
DTSTAMP:20260422T100303
CREATED:20251024T164854Z
LAST-MODIFIED:20251024T164855Z
UID:5853-1765623600-1765641600@diveindy.com
SUMMARY:React Right - Class
DESCRIPTION:React Right is SSI’s emergency training program\, consisting of the following basic components: Primary Assessment\, First Aid & CPR Skills\, Primary Stabilization Techniques\, and includes two optional components: Oxygen Administration in Diving Emergencies and Automated External Defibrilation Basics. Students who complete this program earn the SSI React Right specialty certification.r
URL:https://diveindy.com/event/react-right-class-12-13-25/
LOCATION:Delphi Development Center\, 104 W. Main St.\, Delphi\, Indiana\, 46923\, United States
CATEGORIES:Calendar,Event
ATTACH;FMTTYPE=image/jpeg:https://diveindy.com/wp-content/uploads/2018/12/React-Right-Small.jpg
ORGANIZER;CN="Indy Dive Center":MAILTO:support@diveindy.com
END:VEVENT
BEGIN:VEVENT
DTSTART;TZID=America/Indiana/Indianapolis:20251215T183000
DTEND;TZID=America/Indiana/Indianapolis:20251215T203000
DTSTAMP:20260422T100303
CREATED:20251024T165834Z
LAST-MODIFIED:20251024T165835Z
UID:5856-1765823400-1765830600@diveindy.com
SUMMARY:Marine Ecology (Virtual) - Class
DESCRIPTION:In the SSI Marine Ecology specialty program\, you will learn how ocean organisms interact with each other and their environments. You will be taught how energy flows through communities and the links between different ocean ecosystems. \nWith your newfound knowledge\, you will appreciate the marine life you dive with even more! Start online today and earn your SSI Marine Ecology Specialty certification.
URL:https://diveindy.com/event/marine-ecology-virtual-class-12-15-25/
LOCATION:Virtual
CATEGORIES:Calendar,Event
ATTACH;FMTTYPE=image/jpeg:https://diveindy.com/wp-content/uploads/2020/11/Marine-Eco-1.jpg
ORGANIZER;CN="Indy Dive Center":MAILTO:support@diveindy.com
END:VEVENT
BEGIN:VEVENT
DTSTART;TZID=America/Indiana/Indianapolis:20251219T170000
DTEND;TZID=America/Indiana/Indianapolis:20251219T210000
DTSTAMP:20260422T100303
CREATED:20251024T155353Z
LAST-MODIFIED:20251024T155355Z
UID:5844-1766163600-1766178000@diveindy.com
SUMMARY:Nitrox - Class
DESCRIPTION:Do you want to extend your dive time and explore the dive sites you love for longer? Join the SSI Enriched Air Nitrox specialty program and become a nitrox diver! This is the perfect course to get the most out of your dive time\, especially on multi-dive days\, and helps minimize diver fatigue. \nSSI Enriched Air Nitrox program will teach you how to safely plan and dive with enriched air mixtures of up to 40% oxygen. Diving with enriched air can increase your no-decompression limits\, increase your safety\, and reduce the required length of your surface intervals when compared to air. You will earn the SSI Enriched Air Nitrox 32% or 40% certification after completing this program.
URL:https://diveindy.com/event/nitrox-class-12-19-25/
LOCATION:Delphi Development Center\, 104 W. Main St.\, Delphi\, Indiana\, 46923\, United States
CATEGORIES:Calendar,Event
ATTACH;FMTTYPE=image/jpeg:https://diveindy.com/wp-content/uploads/2020/12/Nitrox.jpg
ORGANIZER;CN="Indy Dive Center":MAILTO:support@diveindy.com
END:VEVENT
END:VCALENDAR