BEGIN:VCALENDAR
VERSION:2.0
PRODID:-//Indy Dive Center - ECPv6.15.20//NONSGML v1.0//EN
CALSCALE:GREGORIAN
METHOD:PUBLISH
X-WR-CALNAME:Indy Dive Center
X-ORIGINAL-URL:https://diveindy.com
X-WR-CALDESC:Events for Indy Dive Center
REFRESH-INTERVAL;VALUE=DURATION:PT1H
X-Robots-Tag:noindex
X-PUBLISHED-TTL:PT1H
BEGIN:VTIMEZONE
TZID:America/Indiana/Indianapolis
BEGIN:DAYLIGHT
TZOFFSETFROM:-0500
TZOFFSETTO:-0400
TZNAME:EDT
DTSTART:20240310T070000
END:DAYLIGHT
BEGIN:STANDARD
TZOFFSETFROM:-0400
TZOFFSETTO:-0500
TZNAME:EST
DTSTART:20241103T060000
END:STANDARD
BEGIN:DAYLIGHT
TZOFFSETFROM:-0500
TZOFFSETTO:-0400
TZNAME:EDT
DTSTART:20250309T070000
END:DAYLIGHT
BEGIN:STANDARD
TZOFFSETFROM:-0400
TZOFFSETTO:-0500
TZNAME:EST
DTSTART:20251102T060000
END:STANDARD
BEGIN:DAYLIGHT
TZOFFSETFROM:-0500
TZOFFSETTO:-0400
TZNAME:EDT
DTSTART:20260308T070000
END:DAYLIGHT
BEGIN:STANDARD
TZOFFSETFROM:-0400
TZOFFSETTO:-0500
TZNAME:EST
DTSTART:20261101T060000
END:STANDARD
END:VTIMEZONE
BEGIN:VEVENT
DTSTART;TZID=America/Indiana/Indianapolis:20250601T080000
DTEND;TZID=America/Indiana/Indianapolis:20250601T120000
DTSTAMP:20260422T194825
CREATED:20250331T202055Z
LAST-MODIFIED:20250331T202056Z
UID:5493-1748764800-1748779200@diveindy.com
SUMMARY:Skills Update - Class
DESCRIPTION:It is easy for dive skills to get rusty and to lose confidence when you have not dived for a while. With the SSI Scuba Skills Update\, we will get you back in the water and diving with ease in no time. \nThis scuba refresher course allows you to review and practice scuba skills you learned in your Open Water Diver program\, under the guidance of an SSI Professional. This is a great course to take just before a dive holiday\, so you spend less time worrying about your skills and more time admiring the marine life. \nIf you are a non-certified Open Water Diver student\, a Scuba Skills Update is ideal for practicing your dive skills before your open water training dives. With no fixed course duration\, you can take your time and focus on the skills you need help with. \nNote: This course does not include the use of equipment.
URL:https://diveindy.com/event/skills-update-class-6-1-25/
LOCATION:France Park\, 4505 US-24\, Logansport\, IN\, 46947\, United States
CATEGORIES:Calendar,Event
ATTACH;FMTTYPE=image/png:https://diveindy.com/wp-content/uploads/2022/03/Scuba-Skills-Update.png
ORGANIZER;CN="Indy Dive Center":MAILTO:support@diveindy.com
END:VEVENT
BEGIN:VEVENT
DTSTART;TZID=America/Indiana/Indianapolis:20250601T090000
DTEND;TZID=America/Indiana/Indianapolis:20250601T160000
DTSTAMP:20260422T194825
CREATED:20250210T170440Z
LAST-MODIFIED:20250210T170441Z
UID:5437-1748768400-1748793600@diveindy.com
SUMMARY:Open Water Diver - Class
DESCRIPTION:The SSI Scuba Open Water Diver Course presents a remarkable opportunity for individuals eager to immerse themselves in the captivating world beneath the ocean’s surface. Whether you possess an insatiable curiosity for marine life\, a deep-seated appreciation for the natural world\, or simply a thirst for adventure\, scuba diving promises an avenue for endless exploration and discovery. Within this article\, we will delve into the intricacies of the SSI Scuba Open Water Diver Course\, elucidating its contents and explaining why it represents the perfect starting point for those embarking on their underwater odyssey. \nUnderstanding the SSI Scuba Open Water Diver Course \nThe SSI Scuba Open Water Diver Course stands as a comprehensive and internationally renowned scuba diving certification program. Its primary objective is to equip beginners with the fundamental knowledge and skills essential for safe and conscientious underwater exploration. \nCourse Highlights \n– Educational Modules: The course commences with an array of engaging and informative online modules. Here\, you will delve into the scientific aspects of diving\, the intricacies of underwater physiology\, equipment usage\, dive planning\, and critical safety protocols. The online format affords you the freedom to advance at your own pace\, accommodating even the most demanding schedules. \n– Confined Water Training (Part 1): Following the theoretical component\, you will put your newfound knowledge into practice through hands-on training sessions conducted in a controlled pool environment. A certified SSI Instructor will expertly guide you through pivotal scuba skills\, including mastery of buoyancy control\, mask clearing\, and execution of emergency procedures. These exercises will continue until you exude confidence and comfort beneath the water’s surface. \n– Open Water Dives: (Part 2) The zenith of the course materializes during the open water dives. Here\, you will apply your acquired knowledge and skills in genuine underwater settings such as oceans\, lakes\, or quarries. These immersive experiences provide a unique opportunity to explore enchanting underwater realms\, encounter diverse marine life\, and further hone your skills under the tutelage of your seasoned instructor. \nWhy Opt for the SSI Scuba Open Water Diver Course? \nFlexible Learning: The online learning platform delivers a flexible approach to study\, enabling learners to progress at their preferred pace—a significant advantage for individuals with diverse schedules. \nGlobal Recognition: SSI enjoys international recognition as a certification agency\, guaranteeing the acceptance of your certification at dive centers and resorts spanning the globe. \nSafety at the Forefront: Safety ranks as a paramount concern in scuba diving\, and the SSI Scuba Open Water Diver Course ensures comprehensive preparation through the acquisition of essential knowledge and skills for safe diving. \nEnvironmental Responsibility: SSI is committed to promoting responsible diving practices\, including marine conservation and the cultivation of reverence for aquatic ecosystems. \nUnforgettable Adventures: Scuba diving unlocks the doors to extraordinary underwater escapades. Whether it entails the exploration of vibrant coral reefs teeming with marine life or the unraveling of the mysteries concealed within historic shipwrecks\, there exists an adventure tailored to the desires of every intrepid explorer. \nConclusion \nThe SSI Scuba Open Water Diver Course constitutes the gateway to a realm of adventure and awe concealed beneath the water’s surface. Whether your aspirations involve the exploration of oceanic enigmas\, interaction with captivating marine denizens\, or the pursuit of serenity amidst submerged environments\, this course serves as the inaugural step on your scuba diving odyssey. Seize this opportunity now and embark on your scuba diving journey—an underwater universe awaits your exploration. \nWHAT’S INCLUDED \nBCD\, Regulators\, Computer/Gauges\, Weights\, Air fills and Scuba Tank for all “Confined Water Training”\nCourseware\, Academic and Confined Sessions\nAll scuba equipment for your “Confined Water Sessions”\nSSI Open Water Instructor \nREQUIRED BY STUDENT \nMask\, Snorkel and Fins\nOptional student rental package for “Open Water Checkout Dives”. ($75.00) \n\nMinimum Age: 10\nCertification Prerequisites: Complete Medical Release Form prior to in-water training! (If required)\nAcademic Sessions: Online Program\nWater Sessions: 7\nMaximum Training Depth: 18 meters / 60 feet (age 15+)\nSuggested Duration: 16 – 32 hours\nQualification Swim: 200 yards and 10 Min Tread\n\n  \nWhat’s Next? \nClick HERE to see available training dates to complete your Open Water Checkout Dives.
URL:https://diveindy.com/event/open-water-diver-class-6-1-25/
LOCATION:Delphi Development Center\, 104 W. Main St.\, Delphi\, Indiana\, 46923\, United States
CATEGORIES:Calendar,Event
ATTACH;FMTTYPE=image/jpeg:https://diveindy.com/wp-content/uploads/2018/12/Open-Water-Diver1.jpg
END:VEVENT
BEGIN:VEVENT
DTSTART;TZID=America/Indiana/Indianapolis:20250606T170000
DTEND;TZID=America/Indiana/Indianapolis:20250606T210000
DTSTAMP:20260422T194825
CREATED:20250331T184543Z
LAST-MODIFIED:20250331T184608Z
UID:5490-1749229200-1749243600@diveindy.com
SUMMARY:Nitrox - Class
DESCRIPTION:Do you want to extend your dive time and explore the dive sites you love for longer? Join the SSI Enriched Air Nitrox specialty program and become a nitrox diver! This is the perfect course to get the most out of your dive time\, especially on multi-dive days\, and helps minimize diver fatigue. \nSSI Enriched Air Nitrox program will teach you how to safely plan and dive with enriched air mixtures of up to 40% oxygen. Diving with enriched air can increase your no-decompression limits\, increase your safety\, and reduce the required length of your surface intervals when compared to air. You will earn the SSI Enriched Air Nitrox 32% or 40% certification after completing this program.
URL:https://diveindy.com/event/nitrox-class-6-6-25/
LOCATION:Delphi Development Center\, 104 W. Main St.\, Delphi\, Indiana\, 46923\, United States
CATEGORIES:Calendar,Event
ATTACH;FMTTYPE=image/jpeg:https://diveindy.com/wp-content/uploads/2020/12/Nitrox.jpg
ORGANIZER;CN="Indy Dive Center":MAILTO:support@diveindy.com
END:VEVENT
BEGIN:VEVENT
DTSTART;TZID=America/Indiana/Indianapolis:20250608T080000
DTEND;TZID=America/Indiana/Indianapolis:20250608T160000
DTSTAMP:20260422T194825
CREATED:20250331T211852Z
LAST-MODIFIED:20250401T170212Z
UID:5495-1749369600-1749398400@diveindy.com
SUMMARY:World Ocean Day with Indy Dive Center
DESCRIPTION:Come help us celebrate the global phenomenon known as World Ocean Day!  \nThere will be funky\, beach-themed music (family friendly)\, an underwater trash cleanup\, an all youth dive\, a free presentation on “Catalyzing Action for Our Ocean & Climate: It takes us all”\, and Mermaids! \nMore info coming soon! \n  \n  \n  \n 
URL:https://diveindy.com/event/world-ocean-day-with-indy-dive-center-celebration-06-08-25/
LOCATION:France Park\, 4505 US-24\, Logansport\, IN\, 46947\, United States
CATEGORIES:Calendar,Event
ATTACH;FMTTYPE=image/png:https://diveindy.com/wp-content/uploads/2025/03/june-8-world-ocean-day-with-indy-dive-center-main-square.png
ORGANIZER;CN="Indy Dive Center":MAILTO:support@diveindy.com
END:VEVENT
BEGIN:VEVENT
DTSTART;TZID=America/Indiana/Indianapolis:20250614T080000
DTEND;TZID=America/Indiana/Indianapolis:20250614T120000
DTSTAMP:20260422T194825
CREATED:20250210T172141Z
LAST-MODIFIED:20250210T172142Z
UID:5444-1749888000-1749902400@diveindy.com
SUMMARY:Open Water Checkout Dives - Class
DESCRIPTION:If you have completed your SSI Open Water Diver class/academics\, confined water sessions\, and only need to do your Training Dives – we got you!  Our professional team of SSI Instructors will work with you to complete the required dives\, log them in your MySSI App Dive Log\, and issue your SSI Open Water Diver card after successful completion of your dives. \nWHAT’S INCLUDED \nRequired Open Water Training Dives for Completion of the Open Water Diver Course.\nSSI Open Water Instructor \nREQUIRED BY STUDENT \nMask\, Snorkel and Fins \nTotal Diving System \nOptional student rental package for “Open Water Checkout Dives”. ($75.00) \n\nMinimum Age: 10\nCertification Prerequisites: Complete Medical Release Form prior to in-water training! (If required)\nCompletion of Academic and Confined Water Sessions\nMaximum Training Depth: 18 meters / 60 feet (age 15+)\nQualification Swim: 200 yards and 10 Min Tread
URL:https://diveindy.com/event/open-water-checkout-dives-class-6-14-25/
LOCATION:France Park\, 4505 US-24\, Logansport\, IN\, 46947\, United States
CATEGORIES:Calendar,Event
ATTACH;FMTTYPE=image/png:https://diveindy.com/wp-content/uploads/2024/01/CHECK-OUT-DIVES.png
END:VEVENT
BEGIN:VEVENT
DTSTART;TZID=America/Indiana/Indianapolis:20250615T080000
DTEND;TZID=America/Indiana/Indianapolis:20250615T120000
DTSTAMP:20260422T194825
CREATED:20250210T172327Z
LAST-MODIFIED:20250210T172328Z
UID:5446-1749974400-1749988800@diveindy.com
SUMMARY:Open Water Checkout Dives - Class
DESCRIPTION:If you have completed your SSI Open Water Diver class/academics\, confined water sessions\, and only need to do your Training Dives – we got you!  Our professional team of SSI Instructors will work with you to complete the required dives\, log them in your MySSI App Dive Log\, and issue your SSI Open Water Diver card after successful completion of your dives. \nWHAT’S INCLUDED \nRequired Open Water Training Dives for Completion of the Open Water Diver Course.\nSSI Open Water Instructor \nREQUIRED BY STUDENT \nMask\, Snorkel and Fins \nTotal Diving System \nOptional student rental package for “Open Water Checkout Dives”. ($75.00) \n\nMinimum Age: 10\nCertification Prerequisites: Complete Medical Release Form prior to in-water training! (If required)\nCompletion of Academic and Confined Water Sessions\nMaximum Training Depth: 18 meters / 60 feet (age 15+)\nQualification Swim: 200 yards and 10 Min Tread
URL:https://diveindy.com/event/open-water-checkout-dives-class-6-15-25/
LOCATION:France Park\, 4505 US-24\, Logansport\, IN\, 46947\, United States
CATEGORIES:Calendar,Event
ATTACH;FMTTYPE=image/png:https://diveindy.com/wp-content/uploads/2024/01/CHECK-OUT-DIVES.png
ORGANIZER;CN="Indy Dive Center":MAILTO:support@diveindy.com
END:VEVENT
BEGIN:VEVENT
DTSTART;TZID=America/Indiana/Indianapolis:20250621T090000
DTEND;TZID=America/Indiana/Indianapolis:20250621T160000
DTSTAMP:20260422T194825
CREATED:20250421T221729Z
LAST-MODIFIED:20250421T221730Z
UID:5550-1750496400-1750521600@diveindy.com
SUMMARY:Open Water Diver - Class
DESCRIPTION:The SSI Scuba Open Water Diver Course presents a remarkable opportunity for individuals eager to immerse themselves in the captivating world beneath the ocean’s surface. Whether you possess an insatiable curiosity for marine life\, a deep-seated appreciation for the natural world\, or simply a thirst for adventure\, scuba diving promises an avenue for endless exploration and discovery. Within this article\, we will delve into the intricacies of the SSI Scuba Open Water Diver Course\, elucidating its contents and explaining why it represents the perfect starting point for those embarking on their underwater odyssey. \nUnderstanding the SSI Scuba Open Water Diver Course \nThe SSI Scuba Open Water Diver Course stands as a comprehensive and internationally renowned scuba diving certification program. Its primary objective is to equip beginners with the fundamental knowledge and skills essential for safe and conscientious underwater exploration. \nCourse Highlights \n– Educational Modules: The course commences with an array of engaging and informative online modules. Here\, you will delve into the scientific aspects of diving\, the intricacies of underwater physiology\, equipment usage\, dive planning\, and critical safety protocols. The online format affords you the freedom to advance at your own pace\, accommodating even the most demanding schedules. \n– Confined Water Training (Part 1): Following the theoretical component\, you will put your newfound knowledge into practice through hands-on training sessions conducted in a controlled pool environment. A certified SSI Instructor will expertly guide you through pivotal scuba skills\, including mastery of buoyancy control\, mask clearing\, and execution of emergency procedures. These exercises will continue until you exude confidence and comfort beneath the water’s surface. \n– Open Water Dives: (Part 2) The zenith of the course materializes during the open water dives. Here\, you will apply your acquired knowledge and skills in genuine underwater settings such as oceans\, lakes\, or quarries. These immersive experiences provide a unique opportunity to explore enchanting underwater realms\, encounter diverse marine life\, and further hone your skills under the tutelage of your seasoned instructor. \nWhy Opt for the SSI Scuba Open Water Diver Course? \nFlexible Learning: The online learning platform delivers a flexible approach to study\, enabling learners to progress at their preferred pace—a significant advantage for individuals with diverse schedules. \nGlobal Recognition: SSI enjoys international recognition as a certification agency\, guaranteeing the acceptance of your certification at dive centers and resorts spanning the globe. \nSafety at the Forefront: Safety ranks as a paramount concern in scuba diving\, and the SSI Scuba Open Water Diver Course ensures comprehensive preparation through the acquisition of essential knowledge and skills for safe diving. \nEnvironmental Responsibility: SSI is committed to promoting responsible diving practices\, including marine conservation and the cultivation of reverence for aquatic ecosystems. \nUnforgettable Adventures: Scuba diving unlocks the doors to extraordinary underwater escapades. Whether it entails the exploration of vibrant coral reefs teeming with marine life or the unraveling of the mysteries concealed within historic shipwrecks\, there exists an adventure tailored to the desires of every intrepid explorer. \nConclusion \nThe SSI Scuba Open Water Diver Course constitutes the gateway to a realm of adventure and awe concealed beneath the water’s surface. Whether your aspirations involve the exploration of oceanic enigmas\, interaction with captivating marine denizens\, or the pursuit of serenity amidst submerged environments\, this course serves as the inaugural step on your scuba diving odyssey. Seize this opportunity now and embark on your scuba diving journey—an underwater universe awaits your exploration. \nWHAT’S INCLUDED \nBCD\, Regulators\, Computer/Gauges\, Weights\, Air fills and Scuba Tank for all “Confined Water Training”\nCourseware\, Academic and Confined Sessions\nAll scuba equipment for your “Confined Water Sessions”\nSSI Open Water Instructor \nREQUIRED BY STUDENT \nMask\, Snorkel and Fins\nOptional student rental package for “Open Water Checkout Dives”. ($75.00) \n\nMinimum Age: 10\nCertification Prerequisites: Complete Medical Release Form prior to in-water training! (If required)\nAcademic Sessions: Online Program\nWater Sessions: 7\nMaximum Training Depth: 18 meters / 60 feet (age 15+)\nSuggested Duration: 16 – 32 hours\nQualification Swim: 200 yards and 10 Min Tread\n\n  \nWhat’s Next? \nClick HERE to see available training dates to complete your Open Water Checkout Dives.
URL:https://diveindy.com/event/open-water-diver-class-6-21-25/
LOCATION:Delphi Development Center\, 104 W. Main St.\, Delphi\, Indiana\, 46923\, United States
CATEGORIES:Calendar,Event
ATTACH;FMTTYPE=image/jpeg:https://diveindy.com/wp-content/uploads/2018/12/Open-Water-Diver1.jpg
ORGANIZER;CN="Indy Dive Center":MAILTO:support@diveindy.com
END:VEVENT
BEGIN:VEVENT
DTSTART;TZID=America/Indiana/Indianapolis:20250622T090000
DTEND;TZID=America/Indiana/Indianapolis:20250622T160000
DTSTAMP:20260422T194825
CREATED:20250421T221908Z
LAST-MODIFIED:20250421T221909Z
UID:5552-1750582800-1750608000@diveindy.com
SUMMARY:Open Water Diver - Class
DESCRIPTION:The SSI Scuba Open Water Diver Course presents a remarkable opportunity for individuals eager to immerse themselves in the captivating world beneath the ocean’s surface. Whether you possess an insatiable curiosity for marine life\, a deep-seated appreciation for the natural world\, or simply a thirst for adventure\, scuba diving promises an avenue for endless exploration and discovery. Within this article\, we will delve into the intricacies of the SSI Scuba Open Water Diver Course\, elucidating its contents and explaining why it represents the perfect starting point for those embarking on their underwater odyssey. \nUnderstanding the SSI Scuba Open Water Diver Course \nThe SSI Scuba Open Water Diver Course stands as a comprehensive and internationally renowned scuba diving certification program. Its primary objective is to equip beginners with the fundamental knowledge and skills essential for safe and conscientious underwater exploration. \nCourse Highlights \n– Educational Modules: The course commences with an array of engaging and informative online modules. Here\, you will delve into the scientific aspects of diving\, the intricacies of underwater physiology\, equipment usage\, dive planning\, and critical safety protocols. The online format affords you the freedom to advance at your own pace\, accommodating even the most demanding schedules. \n– Confined Water Training (Part 1): Following the theoretical component\, you will put your newfound knowledge into practice through hands-on training sessions conducted in a controlled pool environment. A certified SSI Instructor will expertly guide you through pivotal scuba skills\, including mastery of buoyancy control\, mask clearing\, and execution of emergency procedures. These exercises will continue until you exude confidence and comfort beneath the water’s surface. \n– Open Water Dives: (Part 2) The zenith of the course materializes during the open water dives. Here\, you will apply your acquired knowledge and skills in genuine underwater settings such as oceans\, lakes\, or quarries. These immersive experiences provide a unique opportunity to explore enchanting underwater realms\, encounter diverse marine life\, and further hone your skills under the tutelage of your seasoned instructor. \nWhy Opt for the SSI Scuba Open Water Diver Course? \nFlexible Learning: The online learning platform delivers a flexible approach to study\, enabling learners to progress at their preferred pace—a significant advantage for individuals with diverse schedules. \nGlobal Recognition: SSI enjoys international recognition as a certification agency\, guaranteeing the acceptance of your certification at dive centers and resorts spanning the globe. \nSafety at the Forefront: Safety ranks as a paramount concern in scuba diving\, and the SSI Scuba Open Water Diver Course ensures comprehensive preparation through the acquisition of essential knowledge and skills for safe diving. \nEnvironmental Responsibility: SSI is committed to promoting responsible diving practices\, including marine conservation and the cultivation of reverence for aquatic ecosystems. \nUnforgettable Adventures: Scuba diving unlocks the doors to extraordinary underwater escapades. Whether it entails the exploration of vibrant coral reefs teeming with marine life or the unraveling of the mysteries concealed within historic shipwrecks\, there exists an adventure tailored to the desires of every intrepid explorer. \nConclusion \nThe SSI Scuba Open Water Diver Course constitutes the gateway to a realm of adventure and awe concealed beneath the water’s surface. Whether your aspirations involve the exploration of oceanic enigmas\, interaction with captivating marine denizens\, or the pursuit of serenity amidst submerged environments\, this course serves as the inaugural step on your scuba diving odyssey. Seize this opportunity now and embark on your scuba diving journey—an underwater universe awaits your exploration. \nWHAT’S INCLUDED \nBCD\, Regulators\, Computer/Gauges\, Weights\, Air fills and Scuba Tank for all “Confined Water Training”\nCourseware\, Academic and Confined Sessions\nAll scuba equipment for your “Confined Water Sessions”\nSSI Open Water Instructor \nREQUIRED BY STUDENT \nMask\, Snorkel and Fins\nOptional student rental package for “Open Water Checkout Dives”. ($75.00) \n\nMinimum Age: 10\nCertification Prerequisites: Complete Medical Release Form prior to in-water training! (If required)\nAcademic Sessions: Online Program\nWater Sessions: 7\nMaximum Training Depth: 18 meters / 60 feet (age 15+)\nSuggested Duration: 16 – 32 hours\nQualification Swim: 200 yards and 10 Min Tread\n\n  \nWhat’s Next? \nClick HERE to see available training dates to complete your Open Water Checkout Dives.
URL:https://diveindy.com/event/open-water-diver-class6-22-25/
LOCATION:Delphi Development Center\, 104 W. Main St.\, Delphi\, Indiana\, 46923\, United States
CATEGORIES:Calendar,Event
ATTACH;FMTTYPE=image/jpeg:https://diveindy.com/wp-content/uploads/2018/12/Open-Water-Diver1.jpg
ORGANIZER;CN="Indy Dive Center":MAILTO:support@diveindy.com
END:VEVENT
BEGIN:VEVENT
DTSTART;TZID=America/Indiana/Indianapolis:20250628T080000
DTEND;TZID=America/Indiana/Indianapolis:20250628T120000
DTSTAMP:20260422T194825
CREATED:20250421T223133Z
LAST-MODIFIED:20250421T223134Z
UID:5562-1751097600-1751112000@diveindy.com
SUMMARY:Open Water Checkout Dives - Class
DESCRIPTION:If you have completed your SSI Open Water Diver class/academics\, confined water sessions\, and only need to do your Training Dives – we got you!  Our professional team of SSI Instructors will work with you to complete the required dives\, log them in your MySSI App Dive Log\, and issue your SSI Open Water Diver card after successful completion of your dives. \nWHAT’S INCLUDED \nRequired Open Water Training Dives for Completion of the Open Water Diver Course.\nSSI Open Water Instructor \nREQUIRED BY STUDENT \nMask\, Snorkel and Fins \nTotal Diving System \nOptional student rental package for “Open Water Checkout Dives”. ($75.00) \n\nMinimum Age: 10\nCertification Prerequisites: Complete Medical Release Form prior to in-water training! (If required)\nCompletion of Academic and Confined Water Sessions\nMaximum Training Depth: 18 meters / 60 feet (age 15+)\nQualification Swim: 200 yards and 10 Min Tread
URL:https://diveindy.com/event/open-water-checkout-dives-class-6-28-25/
LOCATION:France Park\, 4505 US-24\, Logansport\, IN\, 46947\, United States
CATEGORIES:Calendar,Event
ATTACH;FMTTYPE=image/png:https://diveindy.com/wp-content/uploads/2024/01/CHECK-OUT-DIVES.png
ORGANIZER;CN="Indy Dive Center":MAILTO:support@diveindy.com
END:VEVENT
BEGIN:VEVENT
DTSTART;TZID=America/Indiana/Indianapolis:20250628T120000
DTEND;TZID=America/Indiana/Indianapolis:20250628T160000
DTSTAMP:20260422T194825
CREATED:20250501T212039Z
LAST-MODIFIED:20250501T212040Z
UID:5597-1751112000-1751126400@diveindy.com
SUMMARY:Skills Update - Class
DESCRIPTION:It is easy for dive skills to get rusty and to lose confidence when you have not dived for a while. With the SSI Scuba Skills Update\, we will get you back in the water and diving with ease in no time. \nThis scuba refresher course allows you to review and practice scuba skills you learned in your Open Water Diver program\, under the guidance of an SSI Professional. This is a great course to take just before a dive holiday\, so you spend less time worrying about your skills and more time admiring the marine life. \nIf you are a non-certified Open Water Diver student\, a Scuba Skills Update is ideal for practicing your dive skills before your open water training dives. With no fixed course duration\, you can take your time and focus on the skills you need help with. \nNote: This course does not include the use of equipment.
URL:https://diveindy.com/event/skills-update-class-6-28-25/
LOCATION:France Park\, 4505 US-24\, Logansport\, IN\, 46947\, United States
CATEGORIES:Calendar,Event
ATTACH;FMTTYPE=image/png:https://diveindy.com/wp-content/uploads/2022/03/Scuba-Skills-Update.png
ORGANIZER;CN="Indy Dive Center":MAILTO:support@diveindy.com
END:VEVENT
BEGIN:VEVENT
DTSTART;TZID=America/Indiana/Indianapolis:20250629T080000
DTEND;TZID=America/Indiana/Indianapolis:20250629T120000
DTSTAMP:20260422T194825
CREATED:20250421T223322Z
LAST-MODIFIED:20250421T223323Z
UID:5564-1751184000-1751198400@diveindy.com
SUMMARY:Open Water Checkout Dives - Class
DESCRIPTION:If you have completed your SSI Open Water Diver class/academics\, confined water sessions\, and only need to do your Training Dives – we got you!  Our professional team of SSI Instructors will work with you to complete the required dives\, log them in your MySSI App Dive Log\, and issue your SSI Open Water Diver card after successful completion of your dives. \nWHAT’S INCLUDED \nRequired Open Water Training Dives for Completion of the Open Water Diver Course.\nSSI Open Water Instructor \nREQUIRED BY STUDENT \nMask\, Snorkel and Fins \nTotal Diving System \nOptional student rental package for “Open Water Checkout Dives”. ($75.00) \n\nMinimum Age: 10\nCertification Prerequisites: Complete Medical Release Form prior to in-water training! (If required)\nCompletion of Academic and Confined Water Sessions\nMaximum Training Depth: 18 meters / 60 feet (age 15+)\nQualification Swim: 200 yards and 10 Min Tread
URL:https://diveindy.com/event/open-water-checkout-dives-class-6-29-25/
LOCATION:France Park\, 4505 US-24\, Logansport\, IN\, 46947\, United States
CATEGORIES:Calendar,Event
ATTACH;FMTTYPE=image/png:https://diveindy.com/wp-content/uploads/2024/01/CHECK-OUT-DIVES.png
ORGANIZER;CN="Indy Dive Center":MAILTO:support@diveindy.com
END:VEVENT
END:VCALENDAR