BEGIN:VCALENDAR
VERSION:2.0
PRODID:-//Indy Dive Center - ECPv6.15.20//NONSGML v1.0//EN
CALSCALE:GREGORIAN
METHOD:PUBLISH
X-WR-CALNAME:Indy Dive Center
X-ORIGINAL-URL:https://diveindy.com
X-WR-CALDESC:Events for Indy Dive Center
REFRESH-INTERVAL;VALUE=DURATION:PT1H
X-Robots-Tag:noindex
X-PUBLISHED-TTL:PT1H
BEGIN:VTIMEZONE
TZID:America/Indiana/Indianapolis
BEGIN:DAYLIGHT
TZOFFSETFROM:-0500
TZOFFSETTO:-0400
TZNAME:EDT
DTSTART:20240310T070000
END:DAYLIGHT
BEGIN:STANDARD
TZOFFSETFROM:-0400
TZOFFSETTO:-0500
TZNAME:EST
DTSTART:20241103T060000
END:STANDARD
BEGIN:DAYLIGHT
TZOFFSETFROM:-0500
TZOFFSETTO:-0400
TZNAME:EDT
DTSTART:20250309T070000
END:DAYLIGHT
BEGIN:STANDARD
TZOFFSETFROM:-0400
TZOFFSETTO:-0500
TZNAME:EST
DTSTART:20251102T060000
END:STANDARD
BEGIN:DAYLIGHT
TZOFFSETFROM:-0500
TZOFFSETTO:-0400
TZNAME:EDT
DTSTART:20260308T070000
END:DAYLIGHT
BEGIN:STANDARD
TZOFFSETFROM:-0400
TZOFFSETTO:-0500
TZNAME:EST
DTSTART:20261101T060000
END:STANDARD
END:VTIMEZONE
BEGIN:VEVENT
DTSTART;TZID=America/Indiana/Indianapolis:20250308T120000
DTEND;TZID=America/Indiana/Indianapolis:20250308T170000
DTSTAMP:20260423T003033
CREATED:20250210T161541Z
LAST-MODIFIED:20250210T161721Z
UID:5422-1741435200-1741453200@diveindy.com
SUMMARY:Science of Diving - Class
DESCRIPTION:Science of Diving program provides an in-depth and detailed study of physics\, physiology\, decompression theory\, the aquatic environment and diving equipment. It is required training for most SSI Dive Professional programs\, as well as some Extended Range programs. You will earn the SSI Science of Diving Specialty certification after completing this program.
URL:https://diveindy.com/event/science-of-diving-class-3-8-25/
LOCATION:Delphi Development Center\, 104 W. Main St.\, Delphi\, Indiana\, 46923\, United States
CATEGORIES:Calendar,Event
ATTACH;FMTTYPE=image/jpeg:https://diveindy.com/wp-content/uploads/2020/12/Science-of-Diving.jpg
ORGANIZER;CN="Indy Dive Center":MAILTO:support@diveindy.com
END:VEVENT
BEGIN:VEVENT
DTSTART;TZID=America/Indiana/Indianapolis:20250315T080000
DTEND;TZID=America/Indiana/Indianapolis:20250315T170000
DTSTAMP:20260423T003033
CREATED:20250210T165055Z
LAST-MODIFIED:20250210T165056Z
UID:5431-1742025600-1742058000@diveindy.com
SUMMARY:Open Water Diver - Class
DESCRIPTION:The SSI Scuba Open Water Diver Course presents a remarkable opportunity for individuals eager to immerse themselves in the captivating world beneath the ocean’s surface. Whether you possess an insatiable curiosity for marine life\, a deep-seated appreciation for the natural world\, or simply a thirst for adventure\, scuba diving promises an avenue for endless exploration and discovery. Within this article\, we will delve into the intricacies of the SSI Scuba Open Water Diver Course\, elucidating its contents and explaining why it represents the perfect starting point for those embarking on their underwater odyssey. \nUnderstanding the SSI Scuba Open Water Diver Course \nThe SSI Scuba Open Water Diver Course stands as a comprehensive and internationally renowned scuba diving certification program. Its primary objective is to equip beginners with the fundamental knowledge and skills essential for safe and conscientious underwater exploration. \nCourse Highlights \n– Educational Modules: The course commences with an array of engaging and informative online modules. Here\, you will delve into the scientific aspects of diving\, the intricacies of underwater physiology\, equipment usage\, dive planning\, and critical safety protocols. The online format affords you the freedom to advance at your own pace\, accommodating even the most demanding schedules. \n– Confined Water Training (Part 1): Following the theoretical component\, you will put your newfound knowledge into practice through hands-on training sessions conducted in a controlled pool environment. A certified SSI Instructor will expertly guide you through pivotal scuba skills\, including mastery of buoyancy control\, mask clearing\, and execution of emergency procedures. These exercises will continue until you exude confidence and comfort beneath the water’s surface. \n– Open Water Dives: (Part 2) The zenith of the course materializes during the open water dives. Here\, you will apply your acquired knowledge and skills in genuine underwater settings such as oceans\, lakes\, or quarries. These immersive experiences provide a unique opportunity to explore enchanting underwater realms\, encounter diverse marine life\, and further hone your skills under the tutelage of your seasoned instructor. \nWhy Opt for the SSI Scuba Open Water Diver Course? \nFlexible Learning: The online learning platform delivers a flexible approach to study\, enabling learners to progress at their preferred pace—a significant advantage for individuals with diverse schedules. \nGlobal Recognition: SSI enjoys international recognition as a certification agency\, guaranteeing the acceptance of your certification at dive centers and resorts spanning the globe. \nSafety at the Forefront: Safety ranks as a paramount concern in scuba diving\, and the SSI Scuba Open Water Diver Course ensures comprehensive preparation through the acquisition of essential knowledge and skills for safe diving. \nEnvironmental Responsibility: SSI is committed to promoting responsible diving practices\, including marine conservation and the cultivation of reverence for aquatic ecosystems. \nUnforgettable Adventures: Scuba diving unlocks the doors to extraordinary underwater escapades. Whether it entails the exploration of vibrant coral reefs teeming with marine life or the unraveling of the mysteries concealed within historic shipwrecks\, there exists an adventure tailored to the desires of every intrepid explorer. \nConclusion \nThe SSI Scuba Open Water Diver Course constitutes the gateway to a realm of adventure and awe concealed beneath the water’s surface. Whether your aspirations involve the exploration of oceanic enigmas\, interaction with captivating marine denizens\, or the pursuit of serenity amidst submerged environments\, this course serves as the inaugural step on your scuba diving odyssey. Seize this opportunity now and embark on your scuba diving journey—an underwater universe awaits your exploration. \nWHAT’S INCLUDED \nBCD\, Regulators\, Computer/Gauges\, Weights\, Air fills and Scuba Tank for all “Confined Water Training”\nCourseware\, Academic and Confined Sessions\nAll scuba equipment for your “Confined Water Sessions”\nSSI Open Water Instructor \nREQUIRED BY STUDENT \nMask\, Snorkel and Fins\nOptional student rental package for “Open Water Checkout Dives”. ($75.00) \n\nMinimum Age: 10\nCertification Prerequisites: Complete Medical Release Form prior to in-water training! (If required)\nAcademic Sessions: Online Program\nWater Sessions: 7\nMaximum Training Depth: 18 meters / 60 feet (age 15+)\nSuggested Duration: 16 – 32 hours\nQualification Swim: 200 yards and 10 Min Tread\n\n  \nWhat’s Next? \nClick HERE to see available training dates to complete your Open Water Checkout Dives.
URL:https://diveindy.com/event/open-water-diver-class-3-15-25/
LOCATION:Westfield YMCA\, 874 Virginia Rose Ave\, Westfield\, IN\, 46074\, United States
CATEGORIES:Calendar,Event
ATTACH;FMTTYPE=image/jpeg:https://diveindy.com/wp-content/uploads/2018/12/Open-Water-Diver1.jpg
ORGANIZER;CN="Indy Dive Center":MAILTO:support@diveindy.com
END:VEVENT
BEGIN:VEVENT
DTSTART;TZID=America/Indiana/Indianapolis:20250315T080000
DTEND;TZID=America/Indiana/Indianapolis:20250316T160000
DTSTAMP:20260423T003033
CREATED:20250122T210822Z
LAST-MODIFIED:20250122T210823Z
UID:5350-1742025600-1742140800@diveindy.com
SUMMARY:Perfect Buoyancy - Class
DESCRIPTION:Tired of asking someone how much weight you need or being the first of the group to use all your air. Want to glide through the water and not be that diver that is constantly struggling to stay off the bottom? Then consider continuing your education with the IDC’s Perfect Buoyancy course. \n\nThis is not your standard Perfect Buoyancy course. The Indy Dive Center has tuned the course to provide you with the skills to finely control your buoyancy underwater. \n\nBuoyancy control is what defines skilled scuba divers. You’ve seen them underwater. They glide effortlessly\, use less air and ascend\, descend or hover almost as if by thought. They more easily observe aquatic life without disturbing their surroundings. You can achieve this\, too. The SSI Perfect Buoyancy Specialty course improves the buoyancy skills you learned as a new diver and elevates you to the next level. \nThe SSI Perfect Buoyancy program teaches you the skills and techniques needed to maximize your dive experience\, increase your comfort in the water\, and get the most from your equipment. You will earn the SSI Perfect Buoyancy Control Specialty certification.
URL:https://diveindy.com/event/perfect-buoyancy-class-03-15-25/
LOCATION:Westfield YMCA\, 874 Virginia Rose Ave\, Westfield\, IN\, 46074\, United States
CATEGORIES:Calendar
ATTACH;FMTTYPE=image/jpeg:https://diveindy.com/wp-content/uploads/2018/11/Perfect-Buoyancy1.jpg
ORGANIZER;CN="Indy Dive Center":MAILTO:support@diveindy.com
END:VEVENT
BEGIN:VEVENT
DTSTART;TZID=America/Indiana/Indianapolis:20250316T113000
DTEND;TZID=America/Indiana/Indianapolis:20250316T170000
DTSTAMP:20260423T003033
CREATED:20250210T165321Z
LAST-MODIFIED:20250210T165322Z
UID:5433-1742124600-1742144400@diveindy.com
SUMMARY:Open Water Diver - Class
DESCRIPTION:The SSI Scuba Open Water Diver Course presents a remarkable opportunity for individuals eager to immerse themselves in the captivating world beneath the ocean’s surface. Whether you possess an insatiable curiosity for marine life\, a deep-seated appreciation for the natural world\, or simply a thirst for adventure\, scuba diving promises an avenue for endless exploration and discovery. Within this article\, we will delve into the intricacies of the SSI Scuba Open Water Diver Course\, elucidating its contents and explaining why it represents the perfect starting point for those embarking on their underwater odyssey. \nUnderstanding the SSI Scuba Open Water Diver Course \nThe SSI Scuba Open Water Diver Course stands as a comprehensive and internationally renowned scuba diving certification program. Its primary objective is to equip beginners with the fundamental knowledge and skills essential for safe and conscientious underwater exploration. \nCourse Highlights \n– Educational Modules: The course commences with an array of engaging and informative online modules. Here\, you will delve into the scientific aspects of diving\, the intricacies of underwater physiology\, equipment usage\, dive planning\, and critical safety protocols. The online format affords you the freedom to advance at your own pace\, accommodating even the most demanding schedules. \n– Confined Water Training (Part 1): Following the theoretical component\, you will put your newfound knowledge into practice through hands-on training sessions conducted in a controlled pool environment. A certified SSI Instructor will expertly guide you through pivotal scuba skills\, including mastery of buoyancy control\, mask clearing\, and execution of emergency procedures. These exercises will continue until you exude confidence and comfort beneath the water’s surface. \n– Open Water Dives: (Part 2) The zenith of the course materializes during the open water dives. Here\, you will apply your acquired knowledge and skills in genuine underwater settings such as oceans\, lakes\, or quarries. These immersive experiences provide a unique opportunity to explore enchanting underwater realms\, encounter diverse marine life\, and further hone your skills under the tutelage of your seasoned instructor. \nWhy Opt for the SSI Scuba Open Water Diver Course? \nFlexible Learning: The online learning platform delivers a flexible approach to study\, enabling learners to progress at their preferred pace—a significant advantage for individuals with diverse schedules. \nGlobal Recognition: SSI enjoys international recognition as a certification agency\, guaranteeing the acceptance of your certification at dive centers and resorts spanning the globe. \nSafety at the Forefront: Safety ranks as a paramount concern in scuba diving\, and the SSI Scuba Open Water Diver Course ensures comprehensive preparation through the acquisition of essential knowledge and skills for safe diving. \nEnvironmental Responsibility: SSI is committed to promoting responsible diving practices\, including marine conservation and the cultivation of reverence for aquatic ecosystems. \nUnforgettable Adventures: Scuba diving unlocks the doors to extraordinary underwater escapades. Whether it entails the exploration of vibrant coral reefs teeming with marine life or the unraveling of the mysteries concealed within historic shipwrecks\, there exists an adventure tailored to the desires of every intrepid explorer. \nConclusion \nThe SSI Scuba Open Water Diver Course constitutes the gateway to a realm of adventure and awe concealed beneath the water’s surface. Whether your aspirations involve the exploration of oceanic enigmas\, interaction with captivating marine denizens\, or the pursuit of serenity amidst submerged environments\, this course serves as the inaugural step on your scuba diving odyssey. Seize this opportunity now and embark on your scuba diving journey—an underwater universe awaits your exploration. \nWHAT’S INCLUDED \nBCD\, Regulators\, Computer/Gauges\, Weights\, Air fills and Scuba Tank for all “Confined Water Training”\nCourseware\, Academic and Confined Sessions\nAll scuba equipment for your “Confined Water Sessions”\nSSI Open Water Instructor \nREQUIRED BY STUDENT \nMask\, Snorkel and Fins\nOptional student rental package for “Open Water Checkout Dives”. ($75.00) \n\nMinimum Age: 10\nCertification Prerequisites: Complete Medical Release Form prior to in-water training! (If required)\nAcademic Sessions: Online Program\nWater Sessions: 7\nMaximum Training Depth: 18 meters / 60 feet (age 15+)\nSuggested Duration: 16 – 32 hours\nQualification Swim: 200 yards and 10 Min Tread\n\n  \nWhat’s Next? \nClick HERE to see available training dates to complete your Open Water Checkout Dives.
URL:https://diveindy.com/event/open-water-diver-class-3-16-25/
LOCATION:Westfield YMCA\, 874 Virginia Rose Ave\, Westfield\, IN\, 46074\, United States
CATEGORIES:Calendar,Event
ATTACH;FMTTYPE=image/jpeg:https://diveindy.com/wp-content/uploads/2018/12/Open-Water-Diver1.jpg
ORGANIZER;CN="Indy Dive Center":MAILTO:support@diveindy.com
END:VEVENT
BEGIN:VEVENT
DTSTART;TZID=America/Indiana/Indianapolis:20250322T080000
DTEND;TZID=America/Indiana/Indianapolis:20250323T170000
DTSTAMP:20260423T003033
CREATED:20250122T200528Z
LAST-MODIFIED:20250122T200529Z
UID:5346-1742630400-1742749200@diveindy.com
SUMMARY:Advanced Adventurer - Class
DESCRIPTION:If you cannot decide which specialty programs are the best choice for you\, join the SSI Advanced Adventurer program! With this program\, you can try a variety of specialties before committing to full specialty programs. It is a great way to experience what advanced diver training is all about and how valuable it can be to your diving adventures. \nDuring the Advanced Adventurer Program\, you will try out 5 different specialties. You will complete one open water training dive per specialty after a comprehensive briefing with your SSI Instructor. \nWith this trial program in specialty diving\, you will have total freedom to explore. \nOUR Advanced Adventurer certifications will at least include: 1 Perfect Buoyancy Session\, 1 Limited Visibility Session\, 1 Navigation Session\, 1 Deep Session\, and 1 Alternate (Wreck\, etc..). Contact us about specific class dates. \nNote: Classes to be held at certain locations may be subject to additional costs. \nYou can complete the full specialty programs any time in the future and credit your Advanced Adventurer training towards them! \nTRAINING PREREQUISITES: \nMinimum Open Water Diver Certified \nMedically fit for diving \nMinimum Age: Age: 12 years old
URL:https://diveindy.com/event/advanced-adventurer-class-03-22-25/
LOCATION:Vortex Spring\, 1517 Vortex Springs Lane\, Ponce De Leon\, FL\, 32455\, United States
CATEGORIES:Calendar
ATTACH;FMTTYPE=image/png:https://diveindy.com/wp-content/uploads/2022/03/Advanced-Adventurer-SSI.png
ORGANIZER;CN="Indy Dive Center":MAILTO:support@diveindy.com
END:VEVENT
BEGIN:VEVENT
DTSTART;TZID=America/Indiana/Indianapolis:20250329T100000
DTEND;TZID=America/Indiana/Indianapolis:20250329T140000
DTSTAMP:20260423T003033
CREATED:20241221T224659Z
LAST-MODIFIED:20250204T201228Z
UID:5334-1743242400-1743256800@diveindy.com
SUMMARY:Computer Diving - Class
DESCRIPTION:The SSI Computer Diving program explores the functions and capabilities of different dive computers and explains how to use these functions before\, during\, and after your dive. Often\, divers purchase a computer and only use it for its basic information. Get the most out of your investment by learning to use your dive computer to its full potential!
URL:https://diveindy.com/event/computer-diving-class-03-29-25/
LOCATION:Delphi Development Center\, 104 W. Main St.\, Delphi\, Indiana\, 46923\, United States
CATEGORIES:Calendar
ATTACH;FMTTYPE=image/png:https://diveindy.com/wp-content/uploads/2024/12/ssi-computer-diving.png
ORGANIZER;CN="Indy Dive Center":MAILTO:support@diveindy.com
END:VEVENT
END:VCALENDAR