BEGIN:VCALENDAR
VERSION:2.0
PRODID:-//Indy Dive Center - ECPv6.15.20//NONSGML v1.0//EN
CALSCALE:GREGORIAN
METHOD:PUBLISH
X-WR-CALNAME:Indy Dive Center
X-ORIGINAL-URL:https://diveindy.com
X-WR-CALDESC:Events for Indy Dive Center
REFRESH-INTERVAL;VALUE=DURATION:PT1H
X-Robots-Tag:noindex
X-PUBLISHED-TTL:PT1H
BEGIN:VTIMEZONE
TZID:America/Indiana/Indianapolis
BEGIN:DAYLIGHT
TZOFFSETFROM:-0500
TZOFFSETTO:-0400
TZNAME:EDT
DTSTART:20230312T070000
END:DAYLIGHT
BEGIN:STANDARD
TZOFFSETFROM:-0400
TZOFFSETTO:-0500
TZNAME:EST
DTSTART:20231105T060000
END:STANDARD
BEGIN:DAYLIGHT
TZOFFSETFROM:-0500
TZOFFSETTO:-0400
TZNAME:EDT
DTSTART:20240310T070000
END:DAYLIGHT
BEGIN:STANDARD
TZOFFSETFROM:-0400
TZOFFSETTO:-0500
TZNAME:EST
DTSTART:20241103T060000
END:STANDARD
BEGIN:DAYLIGHT
TZOFFSETFROM:-0500
TZOFFSETTO:-0400
TZNAME:EDT
DTSTART:20250309T070000
END:DAYLIGHT
BEGIN:STANDARD
TZOFFSETFROM:-0400
TZOFFSETTO:-0500
TZNAME:EST
DTSTART:20251102T060000
END:STANDARD
END:VTIMEZONE
BEGIN:VEVENT
DTSTART;TZID=America/Indiana/Indianapolis:20241201T100000
DTEND;TZID=America/Indiana/Indianapolis:20241201T140000
DTSTAMP:20260423T051155
CREATED:20240123T221055Z
LAST-MODIFIED:20241008T160102Z
UID:4902-1733047200-1733061600@diveindy.com
SUMMARY:2024 Annual Christmas Tree Sinking and Cold Water Dive
DESCRIPTION:Join us for our annual Christmas Tree Sinking and Cold Water Dive!\n\nWe will open from 10am – 2pm on December 1st\, 2024 to enjoy some beautiful visibility in the chilly water\, enjoy the Paddlefish when they are a bit slower\, and sink a Christmas for the fish to enjoy. Some divers even decorate the tree with fish food. \n\nMinimum thermal protection recommended for this dive is full 7mm with hood and gloves. It’s a good day for dry suit! \nFull 7mm wetsuits are available for rent onsite for $20 per day\, however hoods and gloves are not available on site.\n\nHope to see everyone there so that we can tell you all HAPPY HOLIDAYS and THANK YOU FOR DIVING WITH US IN 2024!
URL:https://diveindy.com/event/annualchristmastreedive/
LOCATION:France Park\, 4505 US-24\, Logansport\, IN\, 46947\, United States
CATEGORIES:Calendar
ATTACH;FMTTYPE=image/jpeg:https://diveindy.com/wp-content/uploads/2021/12/paddlefish3.jpg
ORGANIZER;CN="Indy Dive Center":MAILTO:support@diveindy.com
END:VEVENT
BEGIN:VEVENT
DTSTART;TZID=America/Indiana/Indianapolis:20241202T183000
DTEND;TZID=America/Indiana/Indianapolis:20241202T203000
DTSTAMP:20260423T051155
CREATED:20240909T201022Z
LAST-MODIFIED:20240909T202145Z
UID:5181-1733164200-1733171400@diveindy.com
SUMMARY:Marine Ecology (Virtual) - Class
DESCRIPTION:In the SSI Marine Ecology specialty program\, you will learn how ocean organisms interact with each other and their environments. You will be taught how energy flows through communities and the links between different ocean ecosystems. \nWith your newfound knowledge\, you will appreciate the marine life you dive with even more! Start online today and earn your SSI Marine Ecology Specialty certification. \nNote: This class is taught virtually. Students will need an internet connection.
URL:https://diveindy.com/event/marine-ecology-class-12-02/
LOCATION:Virtual
CATEGORIES:Calendar
ATTACH;FMTTYPE=image/jpeg:https://diveindy.com/wp-content/uploads/2020/11/Marine-Eco-1.jpg
END:VEVENT
BEGIN:VEVENT
DTSTART;TZID=America/Indiana/Indianapolis:20241204T190000
DTEND;TZID=America/Indiana/Indianapolis:20241204T203000
DTSTAMP:20260423T051155
CREATED:20240909T201233Z
LAST-MODIFIED:20240909T202218Z
UID:5183-1733338800-1733344200@diveindy.com
SUMMARY:Shark Ecology (Virtual) - Class
DESCRIPTION:In the SSI Shark Ecology program\, you will learn how to interpret shark behaviours\, why they are often misunderstood and how dive with sharks. This is a perfect course for shark fans and for divers who are nervous about sharks but want to overcome their fear. Upon completion of this program\, you will earn your SSI Shark Ecology Specialty certification and no doubt become an avid shark diver. \nNote: This class is taught virtually. Students will need an internet connection.
URL:https://diveindy.com/event/shark-ecology-class-12-04/
LOCATION:Virtual
CATEGORIES:Calendar
ATTACH;FMTTYPE=image/jpeg:https://diveindy.com/wp-content/uploads/2021/12/shark-ecology.jpg
ORGANIZER;CN="Indy Dive Center":MAILTO:support@diveindy.com
END:VEVENT
BEGIN:VEVENT
DTSTART;TZID=America/Indiana/Indianapolis:20241207T100000
DTEND;TZID=America/Indiana/Indianapolis:20241207T140000
DTSTAMP:20260423T051155
CREATED:20240909T192603Z
LAST-MODIFIED:20240909T192604Z
UID:5179-1733565600-1733580000@diveindy.com
SUMMARY:Enriched Air Nitrox - Class
DESCRIPTION:Do you want to extend your dive time and explore the dive sites you love for longer? Join the SSI Enriched Air Nitrox specialty program and become a nitrox diver! This is the perfect course to get the most out of your dive time\, especially on multi-dive days\, and helps minimize diver fatigue. \nSSI Enriched Air Nitrox program will teach you how to safely plan and dive with enriched air mixtures of up to 40% oxygen. Diving with enriched air can increase your no-decompression limits\, increase your safety\, and reduce the required length of your surface intervals when compared to air. You will earn the SSI Enriched Air Nitrox 32% or 40% certification after completing this program. \nThis is class is held at our Delphi Development Center\n(104 W. Main St.\, Delphi\, IN 46923)
URL:https://diveindy.com/event/enriched-air-nitrox-class-12-07/
LOCATION:Delphi Development Center\, 104 W. Main St.\, Delphi\, Indiana\, 46923\, United States
CATEGORIES:Calendar
ATTACH;FMTTYPE=image/jpeg:https://diveindy.com/wp-content/uploads/2020/12/Nitrox.jpg
ORGANIZER;CN="Indy Dive Center":MAILTO:support@diveindy.com
END:VEVENT
BEGIN:VEVENT
DTSTART;TZID=America/Indiana/Indianapolis:20241209T190000
DTEND;TZID=America/Indiana/Indianapolis:20241209T203000
DTSTAMP:20260423T051155
CREATED:20240909T201512Z
LAST-MODIFIED:20240909T202333Z
UID:5185-1733770800-1733776200@diveindy.com
SUMMARY:Sea Turtle Ecology (Virtual) - Class
DESCRIPTION:Sea turtles are some of the most wonderful animals to dive with. You will want to dive with them even more after completing the SSI Sea Turtle Ecology Specialty program! This specialty program provides the skills and concepts you need to recognize and identify common sea turtle species. It teaches you about the fascinating history of sea turtles\, their role in marine ecosystems and threats to their survival. Upon completion\, you will earn the SSI Sea Turtle Ecology Specialty certification. \nNote: This class is taught virtually. Students will need internet connection.
URL:https://diveindy.com/event/sea-turtle-ecology-class-12-09/
LOCATION:Virtual
CATEGORIES:Calendar
ATTACH;FMTTYPE=image/png:https://diveindy.com/wp-content/uploads/2021/12/Sea-Turtle-Ecology.png
ORGANIZER;CN="Indy Dive Center":MAILTO:support@diveindy.com
END:VEVENT
BEGIN:VEVENT
DTSTART;TZID=America/Indiana/Indianapolis:20241211T190000
DTEND;TZID=America/Indiana/Indianapolis:20241211T203000
DTSTAMP:20260423T051155
CREATED:20240909T201745Z
LAST-MODIFIED:20240909T201746Z
UID:5187-1733943600-1733949000@diveindy.com
SUMMARY:Marine Mammals (Virtual) - Class
DESCRIPTION:In the SSI Marine Mammal specialty program\, you will learn about the ecology of the world’s whales\, dolphins\, and more! \nYou will learn how to distinguish groups of marine mammals and understand how essential they are to their home ecosystems. \nJoin us and earn your Marine Mammal specialty certification today! \nNote: This class is taught virtually. Students will need an internet connection.
URL:https://diveindy.com/event/marine-mammals-virtual-class-12-11/
LOCATION:Virtual
CATEGORIES:Calendar
ATTACH;FMTTYPE=image/png:https://diveindy.com/wp-content/uploads/2022/08/Marine-Mammals-1.png
ORGANIZER;CN="Indy Dive Center":MAILTO:support@diveindy.com
END:VEVENT
BEGIN:VEVENT
DTSTART;TZID=America/Indiana/Indianapolis:20241214T100000
DTEND;TZID=America/Indiana/Indianapolis:20241214T150000
DTSTAMP:20260423T051155
CREATED:20241024T144929Z
LAST-MODIFIED:20241024T145233Z
UID:5238-1734170400-1734188400@diveindy.com
SUMMARY:React Right - Class
DESCRIPTION:React Right is SSI’s emergency training program\, consisting of the following basic components: Primary Assessment\, First Aid & CPR Skills\, Primary Stabilization Techniques\, and includes two optional components: Oxygen Administration in Diving Emergencies and Automated External Defibrilation Basics. Students who complete this program earn the SSI React Right specialty certification. \nThis class is taught at our Delphi Development Center\n(104 W. Main St.\, Delphi\, IN 46923) \n  \n 
URL:https://diveindy.com/event/react-right-class-12-14-24/
LOCATION:Delphi Development Center\, 104 W. Main St.\, Delphi\, Indiana\, 46923\, United States
CATEGORIES:Calendar
ATTACH;FMTTYPE=image/jpeg:https://diveindy.com/wp-content/uploads/2018/12/React-Right-Small.jpg
ORGANIZER;CN="Indy Dive Center":MAILTO:support@diveindy.com
END:VEVENT
BEGIN:VEVENT
DTSTART;TZID=America/Indiana/Indianapolis:20241216T190000
DTEND;TZID=America/Indiana/Indianapolis:20241216T203000
DTSTAMP:20260423T051155
CREATED:20240909T202104Z
LAST-MODIFIED:20240909T202105Z
UID:5189-1734375600-1734381000@diveindy.com
SUMMARY:Manta and Ray Ecology (Virtual) - Class
DESCRIPTION:Diving with mantas\, meeting curious stingrays or being surrounded by Mobula rays is an experience divers dream of! It is an opportunity not to be missed. In the SSI Manta & Ray Ecology specialty program\, you will learn how to recognize different ray species and interact with them safely. \nNote: This class is taught virtually. Students will need internet connection.
URL:https://diveindy.com/event/manta-and-ray-ecology-virtual-class-12-16/
LOCATION:Virtual
CATEGORIES:Calendar
ATTACH;FMTTYPE=image/png:https://diveindy.com/wp-content/uploads/2021/12/mant-and-ray-eco-.png
ORGANIZER;CN="Indy Dive Center":MAILTO:support@diveindy.com
END:VEVENT
BEGIN:VEVENT
DTSTART;TZID=America/Indiana/Indianapolis:20241218T190000
DTEND;TZID=America/Indiana/Indianapolis:20241218T203000
DTSTAMP:20260423T051155
CREATED:20241028T193021Z
LAST-MODIFIED:20241028T193022Z
UID:5278-1734548400-1734553800@diveindy.com
SUMMARY:Marine Invertebrate Ecology - Class
DESCRIPTION:Dive into the wonders of marine invertebrates with our new SSI ecology specialty — Marine Invertebrate Ecology. This captivating series covers topics like invertebrate evolution and the ecology of simple and complex invertebrates like nematodes\, sponges\, jellyfish\, sea stars\, nudibranchs\, and squids. You will explore the connections between humans and marine invertebrates and their impact on coral reefs. This program raises environmental awareness\, especially within the underwater world. \nThis program will increase your environmental awareness and help you appreciate the marine life you dive with even more! Start online today and earn your SSI Marine Invertebrate Ecology Specialty certification.
URL:https://diveindy.com/event/marine-invertebrate-ecology-class-12-18-24/
LOCATION:Virtual
CATEGORIES:Calendar
ATTACH;FMTTYPE=image/png:https://diveindy.com/wp-content/uploads/2024/10/ssi-marine-invertebrate-ecology.png
ORGANIZER;CN="Indy Dive Center":MAILTO:support@diveindy.com
END:VEVENT
END:VCALENDAR