BEGIN:VCALENDAR
VERSION:2.0
PRODID:-//Indy Dive Center - ECPv6.15.20//NONSGML v1.0//EN
CALSCALE:GREGORIAN
METHOD:PUBLISH
X-WR-CALNAME:Indy Dive Center
X-ORIGINAL-URL:https://diveindy.com
X-WR-CALDESC:Events for Indy Dive Center
REFRESH-INTERVAL;VALUE=DURATION:PT1H
X-Robots-Tag:noindex
X-PUBLISHED-TTL:PT1H
BEGIN:VTIMEZONE
TZID:America/Indiana/Indianapolis
BEGIN:DAYLIGHT
TZOFFSETFROM:-0500
TZOFFSETTO:-0400
TZNAME:EDT
DTSTART:20230312T070000
END:DAYLIGHT
BEGIN:STANDARD
TZOFFSETFROM:-0400
TZOFFSETTO:-0500
TZNAME:EST
DTSTART:20231105T060000
END:STANDARD
BEGIN:DAYLIGHT
TZOFFSETFROM:-0500
TZOFFSETTO:-0400
TZNAME:EDT
DTSTART:20240310T070000
END:DAYLIGHT
BEGIN:STANDARD
TZOFFSETFROM:-0400
TZOFFSETTO:-0500
TZNAME:EST
DTSTART:20241103T060000
END:STANDARD
BEGIN:DAYLIGHT
TZOFFSETFROM:-0500
TZOFFSETTO:-0400
TZNAME:EDT
DTSTART:20250309T070000
END:DAYLIGHT
BEGIN:STANDARD
TZOFFSETFROM:-0400
TZOFFSETTO:-0500
TZNAME:EST
DTSTART:20251102T060000
END:STANDARD
END:VTIMEZONE
BEGIN:VEVENT
DTSTART;TZID=America/Indiana/Indianapolis:20240720T100000
DTEND;TZID=America/Indiana/Indianapolis:20240720T150000
DTSTAMP:20260423T132236
CREATED:20240621T202058Z
LAST-MODIFIED:20240621T202059Z
UID:5011-1721469600-1721487600@diveindy.com
SUMMARY:International Women's Dive Day 2024
DESCRIPTION:Come and help us celebrate diversity and inclusion for ALL at the 2024 International Women’s Dive Day!\n\nDivers of all ages and from all backgrounds will gather to celebrate the inclusiveness of the dive community\, meet new buddies\, and learn about current topics in conservation of our waterways.\n\n10:00am: Event beginsSay hello to your dive buddies and bring an item to donate to this year’s fundraiser raffle. Items may be home baked goods\, home made craft items\, etc.. (please\, no used dive gear). Gear up and go for a beautiful morning dive!(Raffle runs from 10am-2pm)\n\n12:00pm: Cake and Snacks ProvidedWho doesn’t like cake? Enjoy some cake or snacks while we offer a 30 minute workshop about this year’s focus on conservation and protecting our oceans!\n\n1:00pm: Meet a Buddy Dive/ Youth DiveDivers assemble for a fun ice breaker exercise to meet other divers and enjoy a fun dive with new buddies! Youth divers are encouraged to join and meet other local young divers!\n\n2:30pm: Awards and raffle winners announced(Raffle runs from 10am-2pm)\n\n3:00pm: End of Event. \nSee you next year!\n\nDivers are encouraged to bring cash for raffle items or for free-will donation to this year’s charity.\n\nSee you there!
URL:https://diveindy.com/event/internationalwomensdiveday2024/
LOCATION:France Park\, 4505 US-24\, Logansport\, IN\, 46947\, United States
CATEGORIES:Calendar
ATTACH;FMTTYPE=image/png:https://diveindy.com/wp-content/uploads/2024/06/IWDD-2024.png
ORGANIZER;CN="Indy Dive Center":MAILTO:support@diveindy.com
END:VEVENT
END:VCALENDAR