BEGIN:VCALENDAR
VERSION:2.0
PRODID:-//Indy Dive Center - ECPv6.15.20//NONSGML v1.0//EN
CALSCALE:GREGORIAN
METHOD:PUBLISH
X-WR-CALNAME:Indy Dive Center
X-ORIGINAL-URL:https://diveindy.com
X-WR-CALDESC:Events for Indy Dive Center
REFRESH-INTERVAL;VALUE=DURATION:PT1H
X-Robots-Tag:noindex
X-PUBLISHED-TTL:PT1H
BEGIN:VTIMEZONE
TZID:America/Indiana/Indianapolis
BEGIN:DAYLIGHT
TZOFFSETFROM:-0500
TZOFFSETTO:-0400
TZNAME:EDT
DTSTART:20230312T070000
END:DAYLIGHT
BEGIN:STANDARD
TZOFFSETFROM:-0400
TZOFFSETTO:-0500
TZNAME:EST
DTSTART:20231105T060000
END:STANDARD
BEGIN:DAYLIGHT
TZOFFSETFROM:-0500
TZOFFSETTO:-0400
TZNAME:EDT
DTSTART:20240310T070000
END:DAYLIGHT
BEGIN:STANDARD
TZOFFSETFROM:-0400
TZOFFSETTO:-0500
TZNAME:EST
DTSTART:20241103T060000
END:STANDARD
BEGIN:DAYLIGHT
TZOFFSETFROM:-0500
TZOFFSETTO:-0400
TZNAME:EDT
DTSTART:20250309T070000
END:DAYLIGHT
BEGIN:STANDARD
TZOFFSETFROM:-0400
TZOFFSETTO:-0500
TZNAME:EST
DTSTART:20251102T060000
END:STANDARD
END:VTIMEZONE
BEGIN:VEVENT
DTSTART;TZID=America/Indiana/Indianapolis:20241025T170000
DTEND;TZID=America/Indiana/Indianapolis:20241025T210000
DTSTAMP:20260423T042518
CREATED:20240909T191728Z
LAST-MODIFIED:20240909T191730Z
UID:5177-1729875600-1729890000@diveindy.com
SUMMARY:Enriched Air Nitrox - Class
DESCRIPTION:Do you want to extend your dive time and explore the dive sites you love for longer? Join the SSI Enriched Air Nitrox specialty program and become a nitrox diver! This is the perfect course to get the most out of your dive time\, especially on multi-dive days\, and helps minimize diver fatigue. \nSSI Enriched Air Nitrox program will teach you how to safely plan and dive with enriched air mixtures of up to 40% oxygen. Diving with enriched air can increase your no-decompression limits\, increase your safety\, and reduce the required length of your surface intervals when compared to air. You will earn the SSI Enriched Air Nitrox 32% or 40% certification after completing this program. \nThis is class is held at our Delphi Development Center\n(104 W. Main St.\, Delphi\, IN 46923)
URL:https://diveindy.com/event/enriched-air-nitrox-class-10-25/
LOCATION:Delphi Development Center\, 104 W. Main St.\, Delphi\, Indiana\, 46923\, United States
CATEGORIES:Calendar
ATTACH;FMTTYPE=image/jpeg:https://diveindy.com/wp-content/uploads/2020/12/Nitrox.jpg
ORGANIZER;CN="Indy Dive Center":MAILTO:support@diveindy.com
END:VEVENT
BEGIN:VEVENT
DTSTART;TZID=America/Indiana/Indianapolis:20241023T183000
DTEND;TZID=America/Indiana/Indianapolis:20241023T203000
DTSTAMP:20260423T042518
CREATED:20240909T190158Z
LAST-MODIFIED:20241008T163211Z
UID:5167-1729708200-1729715400@diveindy.com
SUMMARY:Marine Ecology (Virtual) - Class
DESCRIPTION:In the SSI Marine Ecology specialty program\, you will learn how ocean organisms interact with each other and their environments. You will be taught how energy flows through communities and the links between different ocean ecosystems. \nWith your newfound knowledge\, you will appreciate the marine life you dive with even more! Start online today and earn your SSI Marine Ecology Specialty certification.
URL:https://diveindy.com/event/marine-ecology-10-23-24/
LOCATION:Virtual
CATEGORIES:Calendar
ATTACH;FMTTYPE=image/jpeg:https://diveindy.com/wp-content/uploads/2020/11/Marine-Eco-1.jpg
ORGANIZER;CN="Indy Dive Center":MAILTO:support@diveindy.com
END:VEVENT
BEGIN:VEVENT
DTSTART;TZID=America/Indiana/Indianapolis:20241020T100000
DTEND;TZID=America/Indiana/Indianapolis:20241020T160000
DTSTAMP:20260423T042518
CREATED:20240909T191113Z
LAST-MODIFIED:20240909T191205Z
UID:5173-1729418400-1729440000@diveindy.com
SUMMARY:Perfect Buoyancy - Class
DESCRIPTION:Tired of asking someone how much weight you need or being the first of the group to use all your air. Want to glide through the water and not be that diver that is constantly struggling to stay off the bottom? Then consider continuing your education with the IDC’s Perfect Buoyancy course. \n\nThis is not your standard Perfect Buoyancy course. The Indy Dive Center has tuned the course to provide you with the skills to finely control your buoyancy underwater. \n\nBuoyancy control is what defines skilled scuba divers. You’ve seen them underwater. They glide effortlessly\, use less air and ascend\, descend or hover almost as if by thought. They more easily observe aquatic life without disturbing their surroundings. You can achieve this\, too. The SSI Perfect Buoyancy Specialty course improves the buoyancy skills you learned as a new diver and elevates you to the next level. \nThe SSI Perfect Buoyancy program teaches you the skills and techniques needed to maximize your dive experience\, increase your comfort in the water\, and get the most from your equipment. You will earn the SSI Perfect Buoyancy Control Specialty certification. \nCourse Location:\nStudents meet at our Delphi development center and then head over to France Park for in-water training
URL:https://diveindy.com/event/perfect-buoyancy-class-10-20/
LOCATION:Delphi Development Center\, 104 W. Main St.\, Delphi\, Indiana\, 46923\, United States
CATEGORIES:Calendar
ATTACH;FMTTYPE=image/jpeg:https://diveindy.com/wp-content/uploads/2018/11/Perfect-Buoyancy1.jpg
END:VEVENT
BEGIN:VEVENT
DTSTART;TZID=America/Indiana/Indianapolis:20241019T100000
DTEND;TZID=America/Indiana/Indianapolis:20241019T160000
DTSTAMP:20260423T042518
CREATED:20240909T190830Z
LAST-MODIFIED:20240909T190921Z
UID:5171-1729332000-1729353600@diveindy.com
SUMMARY:Perfect Buoyancy - Class
DESCRIPTION:Tired of asking someone how much weight you need or being the first of the group to use all your air. Want to glide through the water and not be that diver that is constantly struggling to stay off the bottom? Then consider continuing your education with the IDC’s Perfect Buoyancy course. \n\nThis is not your standard Perfect Buoyancy course. The Indy Dive Center has tuned the course to provide you with the skills to finely control your buoyancy underwater. \n\nBuoyancy control is what defines skilled scuba divers. You’ve seen them underwater. They glide effortlessly\, use less air and ascend\, descend or hover almost as if by thought. They more easily observe aquatic life without disturbing their surroundings. You can achieve this\, too. The SSI Perfect Buoyancy Specialty course improves the buoyancy skills you learned as a new diver and elevates you to the next level. \nThe SSI Perfect Buoyancy program teaches you the skills and techniques needed to maximize your dive experience\, increase your comfort in the water\, and get the most from your equipment. You will earn the SSI Perfect Buoyancy Control Specialty certification. \nCourse Location:\nStudents meet at our Delphi development center and then head over to France Park for in-water training
URL:https://diveindy.com/event/perfect-buoyancy-class-10-19/
LOCATION:Delphi Development Center\, 104 W. Main St.\, Delphi\, Indiana\, 46923\, United States
CATEGORIES:Calendar
ATTACH;FMTTYPE=image/jpeg:https://diveindy.com/wp-content/uploads/2018/11/Perfect-Buoyancy1.jpg
ORGANIZER;CN="Indy Dive Center":MAILTO:support@diveindy.com
END:VEVENT
BEGIN:VEVENT
DTSTART;TZID=America/Indiana/Indianapolis:20241016T190000
DTEND;TZID=America/Indiana/Indianapolis:20241016T203000
DTSTAMP:20260423T042518
CREATED:20240909T185853Z
LAST-MODIFIED:20240909T185854Z
UID:5165-1729105200-1729110600@diveindy.com
SUMMARY:Shark Ecology (Virtual) - Class
DESCRIPTION:Many people fear sharks\, but these awe-inspiring fish are vital for healthy oceans and are truly amazing to dive with! Join the SSI Shark Ecology specialty program to learn all about sharks and how to dive safely with them. \nNote: This class is taught virtually. Students will need an internet connection.
URL:https://diveindy.com/event/shark-ecology-virtual-class-10-16/
LOCATION:Virtual
CATEGORIES:Calendar
ATTACH;FMTTYPE=image/jpeg:https://diveindy.com/wp-content/uploads/2021/12/shark-ecology.jpg
ORGANIZER;CN="Indy Dive Center":MAILTO:support@diveindy.com
END:VEVENT
BEGIN:VEVENT
DTSTART;TZID=America/Indiana/Indianapolis:20241006T080000
DTEND;TZID=America/Indiana/Indianapolis:20241006T170000
DTSTAMP:20260423T042518
CREATED:20240123T211340Z
LAST-MODIFIED:20240517T210449Z
UID:4887-1728201600-1728234000@diveindy.com
SUMMARY:2024 Treasure Hunt by Divers' Supply Indy
DESCRIPTION:Dive\, eat\, connect and with the scuba community on Sunday\, October 6th\, 2024 at 11am at France Park. \nWhat is the Treasure Hunt? \nDive in to France Park and find your numbered treasure ball (1 treasure/diver) \nEnjoy a cookout and conversation with leading dive equipment manufacturer represents. Wait for your lucky number to be called to find out what treasure you won. \nAdvanced registration required to get your share of scuba treasure!  \nSign up online at Diverssupplyindy.com or give us a call 317-897-2822. \nRegistration Link: https://www.diverssupplyindy.com/trips/31st-annual-treasure-hunt \nNoon Friday\, October 1st\, last day to register. \n  \nEquipment rental available on a first come first serve basis. \nRegular diving admission applies.
URL:https://diveindy.com/event/treasure-hunt/
LOCATION:France Park\, 4505 US-24\, Logansport\, IN\, 46947\, United States
CATEGORIES:Calendar
ATTACH;FMTTYPE=image/png:https://diveindy.com/wp-content/uploads/2024/01/31st-Annual-Treasure-Hunt-1062024.png
ORGANIZER;CN="Divers Supply Indy":MAILTO:support@diverssupplyindy.com
END:VEVENT
BEGIN:VEVENT
DTSTART;TZID=America/Indiana/Indianapolis:20240929T080000
DTEND;TZID=America/Indiana/Indianapolis:20240929T120000
DTSTAMP:20260423T042518
CREATED:20240909T171211Z
LAST-MODIFIED:20240909T171828Z
UID:5156-1727596800-1727611200@diveindy.com
SUMMARY:Scuba Skills Update - Class
DESCRIPTION:This scuba refresher course allows you to review and practice scuba skills you learned in your Open Water Diver program\, under the guidance of an SSI Professional. This is a great course to take just before a dive holiday\, so you spend less time worrying about your skills and more time admiring the marine life.
URL:https://diveindy.com/event/scuba-skills-update-class/
LOCATION:France Park\, 4505 US-24\, Logansport\, IN\, 46947\, United States
CATEGORIES:Calendar
ATTACH;FMTTYPE=image/png:https://diveindy.com/wp-content/uploads/2022/03/Scuba-Skills-Update.png
ORGANIZER;CN="Indy Dive Center":MAILTO:support@diveindy.com
END:VEVENT
BEGIN:VEVENT
DTSTART;TZID=America/Indiana/Indianapolis:20240920T170000
DTEND;TZID=America/Indiana/Indianapolis:20240920T210000
DTSTAMP:20260423T042518
CREATED:20240909T170806Z
LAST-MODIFIED:20240909T171242Z
UID:5153-1726851600-1726866000@diveindy.com
SUMMARY:Enriched Air Nitrox - Class
DESCRIPTION:As a Nitrox diver\, you can increase your bottom times and safety margins\, plus shorten your surface intervals – so you can spend more time diving and less time waiting! In this program\, you will learn new skills and increase your diving knowledge whilst learning how to safely plan and dive with enriched air mixtures of up to 40% oxygen.
URL:https://diveindy.com/event/enriched-air-nitrox-class/
LOCATION:Delphi Development Center\, 104 W. Main St.\, Delphi\, Indiana\, 46923\, United States
CATEGORIES:Calendar
ATTACH;FMTTYPE=image/jpeg:https://diveindy.com/wp-content/uploads/2020/12/Nitrox.jpg
ORGANIZER;CN="Indy Dive Center":MAILTO:support@diveindy.com
END:VEVENT
BEGIN:VEVENT
DTSTART;TZID=America/Indiana/Indianapolis:20240817T190000
DTEND;TZID=America/Indiana/Indianapolis:20240817T220000
DTSTAMP:20260423T042518
CREATED:20240531T185837Z
LAST-MODIFIED:20240531T185837Z
UID:4992-1723921200-1723932000@diveindy.com
SUMMARY:Night Diving with Indy Dive Center 8.17.2024
DESCRIPTION:Indy Dive Center at France Park will be open for Night Diving from 7:00pm – 10:00pm on Saturday\, August 17th.\n\nCome see how the quarry comes alive at night!– Standard admission applies for night diving events.– Divers should bring at least one light source and tank lights are requested for this event.\n\nDon’t forget to complete your online waiver if you have not done so for this season.
URL:https://diveindy.com/event/night-diving-with-indy-dive-center-8-17-2024/
LOCATION:France Park\, 4505 US-24\, Logansport\, IN\, 46947\, United States
ATTACH;FMTTYPE=image/jpeg:https://diveindy.com/wp-content/uploads/2024/05/Night-Dive-.jpeg
ORGANIZER;CN="Indy Dive Center":MAILTO:support@diveindy.com
END:VEVENT
BEGIN:VEVENT
DTSTART;TZID=America/Indiana/Indianapolis:20240720T100000
DTEND;TZID=America/Indiana/Indianapolis:20240720T150000
DTSTAMP:20260423T042518
CREATED:20240621T202058Z
LAST-MODIFIED:20240621T202059Z
UID:5011-1721469600-1721487600@diveindy.com
SUMMARY:International Women's Dive Day 2024
DESCRIPTION:Come and help us celebrate diversity and inclusion for ALL at the 2024 International Women’s Dive Day!\n\nDivers of all ages and from all backgrounds will gather to celebrate the inclusiveness of the dive community\, meet new buddies\, and learn about current topics in conservation of our waterways.\n\n10:00am: Event beginsSay hello to your dive buddies and bring an item to donate to this year’s fundraiser raffle. Items may be home baked goods\, home made craft items\, etc.. (please\, no used dive gear). Gear up and go for a beautiful morning dive!(Raffle runs from 10am-2pm)\n\n12:00pm: Cake and Snacks ProvidedWho doesn’t like cake? Enjoy some cake or snacks while we offer a 30 minute workshop about this year’s focus on conservation and protecting our oceans!\n\n1:00pm: Meet a Buddy Dive/ Youth DiveDivers assemble for a fun ice breaker exercise to meet other divers and enjoy a fun dive with new buddies! Youth divers are encouraged to join and meet other local young divers!\n\n2:30pm: Awards and raffle winners announced(Raffle runs from 10am-2pm)\n\n3:00pm: End of Event. \nSee you next year!\n\nDivers are encouraged to bring cash for raffle items or for free-will donation to this year’s charity.\n\nSee you there!
URL:https://diveindy.com/event/internationalwomensdiveday2024/
LOCATION:France Park\, 4505 US-24\, Logansport\, IN\, 46947\, United States
CATEGORIES:Calendar
ATTACH;FMTTYPE=image/png:https://diveindy.com/wp-content/uploads/2024/06/IWDD-2024.png
ORGANIZER;CN="Indy Dive Center":MAILTO:support@diveindy.com
END:VEVENT
BEGIN:VEVENT
DTSTART;TZID=America/Indiana/Indianapolis:20240504T080000
DTEND;TZID=America/Indiana/Indianapolis:20240504T170000
DTSTAMP:20260423T042518
CREATED:20240321T171717Z
LAST-MODIFIED:20240321T171719Z
UID:4949-1714809600-1714842000@diveindy.com
SUMMARY:Opening Day for 2024 Season at France Park!
DESCRIPTION:Let’s do diving!\n\nJoin us for Open Day 2024 on May 4th!\n\nWe will be kicking off the season in Star Wars style. \n\nFrance Park Diver Check-in Process\nStep 1: Complete the “Divers Liability Release Form”. (Diveindy.com) This only needs to be submitted once per calendar year. This should be completed prior to arriving at France Park.\nStep 2: Enter France Park and pay county entrance fee. Proceed to the Indy Dive Center facility. Park automobile in designated parking area. Please do not stage gear prior to checking-in.\nStep 3: Enter dive facility to being the check-in process. Present “Certification Card”. If you are a student diver\, please inform a staff member that you are a student diver. (know who your instructor is) Pay your dive resort entry fee. You will be assigned a scuba diving kit-up station.\nStep 4: Stage gear to your assigned kit-up station. You are welcome to back down to the concessions stand and drop off scuba gear. Please be courteous to your fellow divers and unload your equipment and re-park your automobile as quickly as possible. Then come back and enjoy a day of diving with the Indy Dive Center.\n\nIndy Dive Center at France Park will be open on Saturday’s and Sundays from 8:00am – 5:00pm every weekend until the end of October.\n\nCheck our event calendar for other events coming up this season!\n\nGear rental is first come first serve.\nRental wetsuits are full 7mm.
URL:https://diveindy.com/event/opening-day-for-2024-season-at-france-park/
LOCATION:France Park\, 4505 US-24\, Logansport\, IN\, 46947\, United States
CATEGORIES:Calendar
ATTACH;FMTTYPE=image/jpeg:https://diveindy.com/wp-content/uploads/2024/03/430096019_917978087002396_7677610716883900544_n.jpg
ORGANIZER;CN="Indy Dive Center":MAILTO:support@diveindy.com
END:VEVENT
END:VCALENDAR