BEGIN:VCALENDAR
VERSION:2.0
PRODID:-//Indy Dive Center - ECPv6.15.20//NONSGML v1.0//EN
CALSCALE:GREGORIAN
METHOD:PUBLISH
X-WR-CALNAME:Indy Dive Center
X-ORIGINAL-URL:https://diveindy.com
X-WR-CALDESC:Events for Indy Dive Center
REFRESH-INTERVAL;VALUE=DURATION:PT1H
X-Robots-Tag:noindex
X-PUBLISHED-TTL:PT1H
BEGIN:VTIMEZONE
TZID:America/Indiana/Indianapolis
BEGIN:DAYLIGHT
TZOFFSETFROM:-0500
TZOFFSETTO:-0400
TZNAME:EDT
DTSTART:20250309T070000
END:DAYLIGHT
BEGIN:STANDARD
TZOFFSETFROM:-0400
TZOFFSETTO:-0500
TZNAME:EST
DTSTART:20251102T060000
END:STANDARD
BEGIN:DAYLIGHT
TZOFFSETFROM:-0500
TZOFFSETTO:-0400
TZNAME:EDT
DTSTART:20260308T070000
END:DAYLIGHT
BEGIN:STANDARD
TZOFFSETFROM:-0400
TZOFFSETTO:-0500
TZNAME:EST
DTSTART:20261101T060000
END:STANDARD
BEGIN:DAYLIGHT
TZOFFSETFROM:-0500
TZOFFSETTO:-0400
TZNAME:EDT
DTSTART:20270314T070000
END:DAYLIGHT
BEGIN:STANDARD
TZOFFSETFROM:-0400
TZOFFSETTO:-0500
TZNAME:EST
DTSTART:20271107T060000
END:STANDARD
END:VTIMEZONE
BEGIN:VEVENT
DTSTART;TZID=America/Indiana/Indianapolis:20261004T110000
DTEND;TZID=America/Indiana/Indianapolis:20261004T160000
DTSTAMP:20260421T003147
CREATED:20260221T205812Z
LAST-MODIFIED:20260221T205814Z
UID:6126-1791111600-1791129600@diveindy.com
SUMMARY:33rd Annual Treasure Hunt by Divers' Supply Indy
DESCRIPTION:https://www.diverssupplyindy.com/trips/33rd-annual-treasure-hunt-10-4-26 \nAdvanced registration required to get your share of scuba treasure!\nSign up online (see Trips) at Diverssupplyindy.com or give us a call 317-897-2822.\n———————————————————————Join us for the 33rd Annual Treasure Hunt by Divers’ Supply Indy!\n\nDive\, eat\, connect and with the scuba community on Sunday\, October 4th at 11am at France Park. What is the Treasure Hunt?\n\nDive in to France Park and find your numbered treasure ball (1 treasure/diver) Enjoy a cookout and conversation with leading dive equipment manufacturer represents. Wait for your lucky number to be called to find out what treasure you won.\n\nAdvanced registration required to get your share of scuba treasure!\nSign up online (see Trips) at Diverssupplyindy.com or give us a call 317-897-2822.\nNoon Friday\, October 2nd\, last day to register.\n\nEquipment rental available on a first come first serve basis on site or rent your equipment in advance through Divers’ Supply Indy.\n\nRegular admission of $25 per diver still applies at check in for diving at France Park in addition to event pre-registration.\nDon’t forget your waiver for diving at France Park.\n\nFollow the link below to register before the deadline!\nhttps://www.diverssupplyindy.com/trips/33rd-annual-treasure-hunt-10-4-26 \n\nDon’t forget to dress for the weather\, and bring your camping chairs to sit in for announcements and prize drawings.
URL:https://diveindy.com/event/33rd-annual-treasure-hunt-by-divers-supply-indy/
LOCATION:France Park\, 4505 US-24\, Logansport\, IN\, 46947\, United States
CATEGORIES:Calendar,Event
ATTACH;FMTTYPE=image/png:https://diveindy.com/wp-content/uploads/2026/02/Treasure-Hunt-10.5.25-2025-square.png
ORGANIZER;CN="Divers Supply Indy":MAILTO:support@diverssupplyindy.com
END:VEVENT
BEGIN:VEVENT
DTSTART;TZID=America/Indiana/Indianapolis:20261017T160000
DTEND;TZID=America/Indiana/Indianapolis:20261017T220000
DTSTAMP:20260421T003147
CREATED:20260221T222836Z
LAST-MODIFIED:20260221T222916Z
UID:6141-1792252800-1792274400@diveindy.com
SUMMARY:Underwater Pumpkin Carving and Jack-O-Lantern Night Dive
DESCRIPTION:Join us at Indy Dive Center France Park on Saturday\, October 17th for one last night dive for the 2026 season! \nBring your own pumpkin and carve it (bring your dive knife!) on one of the platforms. \nWe will provide a weight and glow stick for you to leave in your Jack-O-Lantern and leave it on either our shallow\, or main lower training platform for other divers to view between 7-10pm. \nIt’s a spooky fun dive! \nDivers can go back to collect their pumpkins at the end of the dive\, or leave them and our team will collect the glow sticks (provided) and feed the remaining jack-o-lanterns to the hungry bluegill. \n(Fish love pumpkin!) \nWe will have a limited of pumpkins to share. \n  \nNight Divers are asked to have at least one flashlight and tank lights are requested. \nRegular admission applies for night diving. \nLet’s go diving! \n 
URL:https://diveindy.com/event/jack-o-lantern-night-dive-10-17-26/
LOCATION:France Park\, 4505 US-24\, Logansport\, IN\, 46947\, United States
CATEGORIES:Calendar,Event
ATTACH;FMTTYPE=image/jpeg:https://diveindy.com/wp-content/uploads/2026/02/Pumpkin-Carving-Night-Dive-10.17.26.jpeg
ORGANIZER;CN="Indy Dive Center":MAILTO:support@diveindy.com
END:VEVENT
END:VCALENDAR