BEGIN:VCALENDAR
VERSION:2.0
PRODID:-//Indy Dive Center - ECPv6.15.20//NONSGML v1.0//EN
CALSCALE:GREGORIAN
METHOD:PUBLISH
X-ORIGINAL-URL:https://diveindy.com
X-WR-CALDESC:Events for Indy Dive Center
REFRESH-INTERVAL;VALUE=DURATION:PT1H
X-Robots-Tag:noindex
X-PUBLISHED-TTL:PT1H
BEGIN:VTIMEZONE
TZID:America/Indiana/Indianapolis
BEGIN:DAYLIGHT
TZOFFSETFROM:-0500
TZOFFSETTO:-0400
TZNAME:EDT
DTSTART:20250309T070000
END:DAYLIGHT
BEGIN:STANDARD
TZOFFSETFROM:-0400
TZOFFSETTO:-0500
TZNAME:EST
DTSTART:20251102T060000
END:STANDARD
BEGIN:DAYLIGHT
TZOFFSETFROM:-0500
TZOFFSETTO:-0400
TZNAME:EDT
DTSTART:20260308T070000
END:DAYLIGHT
BEGIN:STANDARD
TZOFFSETFROM:-0400
TZOFFSETTO:-0500
TZNAME:EST
DTSTART:20261101T060000
END:STANDARD
BEGIN:DAYLIGHT
TZOFFSETFROM:-0500
TZOFFSETTO:-0400
TZNAME:EDT
DTSTART:20270314T070000
END:DAYLIGHT
BEGIN:STANDARD
TZOFFSETFROM:-0400
TZOFFSETTO:-0500
TZNAME:EST
DTSTART:20271107T060000
END:STANDARD
END:VTIMEZONE
BEGIN:VEVENT
DTSTART;TZID=America/Indiana/Indianapolis:20260704T080000
DTEND;TZID=America/Indiana/Indianapolis:20260704T150000
DTSTAMP:20260420T060222
CREATED:20260331T191533Z
LAST-MODIFIED:20260331T191534Z
UID:6288-1783152000-1783177200@diveindy.com
SUMMARY:Advanced Open Water - Class
DESCRIPTION:If you cannot decide which specialty programs are the best choice for you\, join the SSI Advanced Adventurer program! With this program\, you can try a variety of specialties before committing to full specialty programs. It is a great way to experience what advanced diver training is all about and how valuable it can be to your diving adventures. \nDuring the Advanced Open Water Diver Program\, you will try out 5 different specialties. You will complete one open water training dive per specialty after a comprehensive briefing with your SSI Instructor. \nWith this trial program in specialty diving\, you will have total freedom to explore. \nOUR Advanced Adventurer certifications will at least include: 1 Perfect Buoyancy Session\, 1 Limited Visibility Session\, 1 Navigation Session\, 1 Deep Session\, and 1 Alternate (Wreck\, etc..). Contact us about specific class dates. \n  \nOnce completed\, students will be issued the Advanced Adventurer Certification from SSI. \nThis certification is the equivalent certification to “Advanced Open Water Certification” with similar recognized agencies. \n  \nYou can complete the full specialty programs any time in the future and credit your Advanced Open Water training towards them! \nTRAINING PREREQUISITES: \nMinimum Open Water Diver Certified \nMedically fit for diving \nMinimum Age: Age: 12 years old \n  \nNote: Classes to be held at certain locations may be subject to additional costs. \nStudents should have all applicable equipment for the applicable training environments. \nRecommended equipment for all classes includes: SMB\, Flashlight\, Cylinder light\, and Applicable thermal protection. \n(Typically minimum 7mm wetsuits is required unless training out of our region.)
URL:https://diveindy.com/event/advanced-open-water-class-7-4-26/
LOCATION:Gilboa Quarry\, 3763 Old State Rte 224\, Ottawa\, Ohio\, 45875
CATEGORIES:Calendar,Event
ATTACH;FMTTYPE=image/png:https://diveindy.com/wp-content/uploads/2022/03/ssi-aow.png
ORGANIZER;CN="Indy Dive Center":MAILTO:support@diveindy.com
END:VEVENT
BEGIN:VEVENT
DTSTART;TZID=America/Indiana/Indianapolis:20260704T090000
DTEND;TZID=America/Indiana/Indianapolis:20260704T150000
DTSTAMP:20260420T060222
CREATED:20260331T200547Z
LAST-MODIFIED:20260331T200548Z
UID:6301-1783155600-1783177200@diveindy.com
SUMMARY:Deep Diver - Class
DESCRIPTION:The SSI Deep Diving Specialty will teach you all you need to dive to depths between 18 and 40 meters\, through a mixture of academic sessions and open water dives. \nYou will learn to plan and safely complete your deep diving adventures and use computers and gas consumption calculations to get the most from your deep dives. \nUpon completion\, you will earn your SSI Deep Diving Specialty certification and be able to explore beautiful deep dive sites wherever you choose. This SSI Specialty is also a prerequisite for some advanced training\, making it the next logical step to take in your dive education.
URL:https://diveindy.com/event/deep-diver-class-7-4-26/
LOCATION:Gilboa Quarry\, 3763 Old State Rte 224\, Ottawa\, Ohio\, 45875
CATEGORIES:Calendar,Event
ATTACH;FMTTYPE=image/png:https://diveindy.com/wp-content/uploads/2021/12/Deep-Diving-SSI.png
END:VEVENT
BEGIN:VEVENT
DTSTART;TZID=America/Indiana/Indianapolis:20260705T080000
DTEND;TZID=America/Indiana/Indianapolis:20260705T140000
DTSTAMP:20260420T060222
CREATED:20260331T192059Z
LAST-MODIFIED:20260331T192100Z
UID:6290-1783238400-1783260000@diveindy.com
SUMMARY:Advanced Open Water - Class
DESCRIPTION:If you cannot decide which specialty programs are the best choice for you\, join the SSI Advanced Adventurer program! With this program\, you can try a variety of specialties before committing to full specialty programs. It is a great way to experience what advanced diver training is all about and how valuable it can be to your diving adventures. \nDuring the Advanced Open Water Diver Program\, you will try out 5 different specialties. You will complete one open water training dive per specialty after a comprehensive briefing with your SSI Instructor. \nWith this trial program in specialty diving\, you will have total freedom to explore. \nOUR Advanced Adventurer certifications will at least include: 1 Perfect Buoyancy Session\, 1 Limited Visibility Session\, 1 Navigation Session\, 1 Deep Session\, and 1 Alternate (Wreck\, etc..). Contact us about specific class dates. \n  \nOnce completed\, students will be issued the Advanced Adventurer Certification from SSI. \nThis certification is the equivalent certification to “Advanced Open Water Certification” with similar recognized agencies. \n  \nYou can complete the full specialty programs any time in the future and credit your Advanced Open Water training towards them! \nTRAINING PREREQUISITES: \nMinimum Open Water Diver Certified \nMedically fit for diving \nMinimum Age: Age: 12 years old \n  \nNote: Classes to be held at certain locations may be subject to additional costs. \nStudents should have all applicable equipment for the applicable training environments. \nRecommended equipment for all classes includes: SMB\, Flashlight\, Cylinder light\, and Applicable thermal protection. \n(Typically minimum 7mm wetsuits is required unless training out of our region.)
URL:https://diveindy.com/event/advanced-open-water-class-7-5-26/
LOCATION:Gilboa Quarry\, 3763 Old State Rte 224\, Ottawa\, Ohio\, 45875
CATEGORIES:Calendar,Event
ATTACH;FMTTYPE=image/png:https://diveindy.com/wp-content/uploads/2022/03/ssi-aow.png
END:VEVENT
BEGIN:VEVENT
DTSTART;TZID=America/Indiana/Indianapolis:20260705T080000
DTEND;TZID=America/Indiana/Indianapolis:20260705T140000
DTSTAMP:20260420T060222
CREATED:20260331T200746Z
LAST-MODIFIED:20260331T200748Z
UID:6303-1783238400-1783260000@diveindy.com
SUMMARY:Deep Diver - Class
DESCRIPTION:The SSI Deep Diving Specialty will teach you all you need to dive to depths between 18 and 40 meters\, through a mixture of academic sessions and open water dives. \nYou will learn to plan and safely complete your deep diving adventures and use computers and gas consumption calculations to get the most from your deep dives. \nUpon completion\, you will earn your SSI Deep Diving Specialty certification and be able to explore beautiful deep dive sites wherever you choose. This SSI Specialty is also a prerequisite for some advanced training\, making it the next logical step to take in your dive education.
URL:https://diveindy.com/event/deep-diver-class-7-5-26/
LOCATION:Gilboa Quarry\, 3763 Old State Rte 224\, Ottawa\, Ohio\, 45875
CATEGORIES:Calendar,Event
ATTACH;FMTTYPE=image/png:https://diveindy.com/wp-content/uploads/2021/12/Deep-Diving-SSI.png
END:VEVENT
BEGIN:VEVENT
DTSTART;TZID=America/Indiana/Indianapolis:20260711T090000
DTEND;TZID=America/Indiana/Indianapolis:20260711T160000
DTSTAMP:20260420T060222
CREATED:20260331T195256Z
LAST-MODIFIED:20260331T195257Z
UID:6295-1783760400-1783785600@diveindy.com
SUMMARY:Stress & Rescue - Class
DESCRIPTION:Stress is a major cause of diving accidents and negatively impacts rescue situations. This program teaches you the skills and knowledge required to recognize and deal with stress\, prevent accidents and properly deal with emergency situations encountered by divers. You will earn the SSI Diver Stress and Rescue Specialty certification after completing this program. \nPrerequisites: \n\n\n\n\nMinimum age: 12 years old \n\n\n\n\n\n\n\n\nBe physically capable of completing the required skills. \nHave proof of current O2 Provider\, First Aid and CPR training within two (2) years prior to issuing a certification card. (React Right)
URL:https://diveindy.com/event/stress-rescue-class-7-11-26/
LOCATION:Delphi Development Center\, 104 W. Main St.\, Delphi\, Indiana\, 46923\, United States
CATEGORIES:Calendar,Event
ATTACH;FMTTYPE=image/jpeg:https://diveindy.com/wp-content/uploads/2018/12/Diver-Stress-Rescue-Small.jpg
ORGANIZER;CN="Indy Dive Center":MAILTO:support@diveindy.com
END:VEVENT
BEGIN:VEVENT
DTSTART;TZID=America/Indiana/Indianapolis:20260712T080000
DTEND;TZID=America/Indiana/Indianapolis:20260712T140000
DTSTAMP:20260420T060222
CREATED:20260331T195440Z
LAST-MODIFIED:20260331T195442Z
UID:6297-1783843200-1783864800@diveindy.com
SUMMARY:Stress & Rescue - Class
DESCRIPTION:Stress is a major cause of diving accidents and negatively impacts rescue situations. This program teaches you the skills and knowledge required to recognize and deal with stress\, prevent accidents and properly deal with emergency situations encountered by divers. You will earn the SSI Diver Stress and Rescue Specialty certification after completing this program. \nPrerequisites: \n\n\n\n\nMinimum age: 12 years old \n\n\n\n\n\n\n\n\nBe physically capable of completing the required skills. \nHave proof of current O2 Provider\, First Aid and CPR training within two (2) years prior to issuing a certification card. (React Right)
URL:https://diveindy.com/event/stress-rescue-class-7-12-26/
LOCATION:France Park\, 4505 US-24\, Logansport\, IN\, 46947\, United States
CATEGORIES:Calendar,Event
ATTACH;FMTTYPE=image/jpeg:https://diveindy.com/wp-content/uploads/2018/12/Diver-Stress-Rescue-Small.jpg
ORGANIZER;CN="Indy Dive Center":MAILTO:support@diveindy.com
END:VEVENT
BEGIN:VEVENT
DTSTART;TZID=America/Indiana/Indianapolis:20260718T080000
DTEND;TZID=America/Indiana/Indianapolis:20260718T170000
DTSTAMP:20260420T060222
CREATED:20260213T193357Z
LAST-MODIFIED:20260213T193358Z
UID:6119-1784361600-1784394000@diveindy.com
SUMMARY:2026 International Women Dive Day
DESCRIPTION:Join us for the 12th Annual International Women’s Dive Day on July 18th\, 2026!  \nOriginally created by PADI\, Women’s Dive Day has become an international phenomenon in it’s 12-year history and is celebrated by all. \nOver the years\, this widely celebrated event has brought divers and water enthusiasts together from across the globe to celebrate women’s contributions to the sport of scuba diving\, as well as diversity and inclusion in our aquatic world. \n“EVERYONE is welcome”  \nWe will be playing funky beach tunes and making new dive buddies all day. \n  \n8:00am – Event Starts \nWe will start the day right off at 8am with Try Scubas and Mermaids! \n12:00pm – Cake and snacks provided. \nDivers and mermaids are welcome to bring snacks to share. \n1:00pm – Meet a buddy dives \nWe will have a fun “Meet a buddy” game. Come mix things up\, meet a new buddy\, and go for a dive. \n3:00pm – Dive with the mermaids at the platform! \nCALLING ALL MERMAIDS! \nCertified mermaids will have a chance to go for a short swim out to our training platforms for some photos and a chance to say hello! \nMake sure to wave to the beach goers. \n4:00pm – End of Event
URL:https://diveindy.com/event/2026-international-women-dive-day/
LOCATION:France Park\, 4505 US-24\, Logansport\, IN\, 46947\, United States
CATEGORIES:Calendar,Event
ATTACH;FMTTYPE=image/png:https://diveindy.com/wp-content/uploads/2026/02/2026-Women-dive-day.png
ORGANIZER;CN="Indy Dive Center":MAILTO:support@diveindy.com
END:VEVENT
BEGIN:VEVENT
DTSTART;TZID=America/Indiana/Indianapolis:20260724T120000
DTEND;TZID=America/Indiana/Indianapolis:20260724T180000
DTSTAMP:20260420T060222
CREATED:20260221T221229Z
LAST-MODIFIED:20260221T221230Z
UID:6135-1784894400-1784916000@diveindy.com
SUMMARY:Fun Dive Friday 12pm - 6pm
DESCRIPTION:You have asked and we have heard you! \nIndy Dive Center will open for regular recreational diving from 12pm – 6pm on a Friday of every month all season. \n(Usually the last Friday of every month.) \nGet to the water and have a little fun before the busy weekend crowds. \nRegular daily diving admission applies.
URL:https://diveindy.com/event/fun-dive-friday-12pm-6pm-7-24-26/
LOCATION:France Park\, 4505 US-24\, Logansport\, IN\, 46947\, United States
CATEGORIES:Calendar,Event
ATTACH;FMTTYPE=image/png:https://diveindy.com/wp-content/uploads/2026/02/Fun-Dive-Friday-Graphic-2026.png
ORGANIZER;CN="Indy Dive Center":MAILTO:support@diveindy.com
END:VEVENT
BEGIN:VEVENT
DTSTART;TZID=America/Indiana/Indianapolis:20260726T140000
DTEND;TZID=America/Indiana/Indianapolis:20260726T170000
DTSTAMP:20260420T060222
CREATED:20260227T134210Z
LAST-MODIFIED:20260227T134211Z
UID:6158-1785074400-1785085200@diveindy.com
SUMMARY:Mermaid Meet and Swim
DESCRIPTION:Inviting all merfolk! \nJoin us at Indy Dive Center for a “Mermaid Meet Up!” \nMerfolk will have access to our confined and open water training areas to meet other mermaids\, show and “tail” all your new mermaid gear\, and make magic! \nMermaids will gather to: \n\nMeet other mermaids\nShow and “tail” about your new mermaid gear\nGo for a guided swim in open water with a certified SSI Mermaid Instructor\nMermaids with Open Water Training will also have opportunity to go for some “loggable” swim time (Ocean Mermaid or Advanced Mermaid Certifications required)\nOpportunities for photos in water\, at the water’s edge\, and access to the beautiful falls at France Park. (Safety first! Photos at the falls must have attendants or merwranglers to assist)\nPrivate access to training areas and platforms for staging gear and in-water activities. (Friends\, family\, and pets are asked to remain in the main beach area.)\n\n  \nMinimum age is 12 years old. \nParticipants must be able to swim (including in their tail)\, medically fit for open water mermaid activities\, and comfortable in deep water \nRegular gate fees and daily admission apply ($25) \nMermaids are asked to complete our digital waiver prior to arrival (same as our scuba diving waiver) \nNon-certified mermaids will be asked to use a floatation device for in-water activity. \nMasks and snorkels are required for open water mermaid swimming. \n 
URL:https://diveindy.com/event/mermaid-meet-and-swim-7-26-26/
LOCATION:France Park\, 4505 US-24\, Logansport\, IN\, 46947\, United States
CATEGORIES:Calendar,Event
ATTACH;FMTTYPE=image/png:https://diveindy.com/wp-content/uploads/2026/02/IDC-Mermaid-Meet-Up.png
ORGANIZER;CN="Indy Dive Center":MAILTO:support@diveindy.com
END:VEVENT
END:VCALENDAR