BEGIN:VCALENDAR
VERSION:2.0
PRODID:-//Indy Dive Center - ECPv6.15.20//NONSGML v1.0//EN
CALSCALE:GREGORIAN
METHOD:PUBLISH
X-ORIGINAL-URL:https://diveindy.com
X-WR-CALDESC:Events for Indy Dive Center
REFRESH-INTERVAL;VALUE=DURATION:PT1H
X-Robots-Tag:noindex
X-PUBLISHED-TTL:PT1H
BEGIN:VTIMEZONE
TZID:America/Indiana/Indianapolis
BEGIN:DAYLIGHT
TZOFFSETFROM:-0500
TZOFFSETTO:-0400
TZNAME:EDT
DTSTART:20250309T070000
END:DAYLIGHT
BEGIN:STANDARD
TZOFFSETFROM:-0400
TZOFFSETTO:-0500
TZNAME:EST
DTSTART:20251102T060000
END:STANDARD
BEGIN:DAYLIGHT
TZOFFSETFROM:-0500
TZOFFSETTO:-0400
TZNAME:EDT
DTSTART:20260308T070000
END:DAYLIGHT
BEGIN:STANDARD
TZOFFSETFROM:-0400
TZOFFSETTO:-0500
TZNAME:EST
DTSTART:20261101T060000
END:STANDARD
BEGIN:DAYLIGHT
TZOFFSETFROM:-0500
TZOFFSETTO:-0400
TZNAME:EDT
DTSTART:20270314T070000
END:DAYLIGHT
BEGIN:STANDARD
TZOFFSETFROM:-0400
TZOFFSETTO:-0500
TZNAME:EST
DTSTART:20271107T060000
END:STANDARD
END:VTIMEZONE
BEGIN:VEVENT
DTSTART;TZID=America/Indiana/Indianapolis:20260301T110000
DTEND;TZID=America/Indiana/Indianapolis:20260301T170000
DTSTAMP:20260420T014752
CREATED:20260111T223353Z
LAST-MODIFIED:20260111T223356Z
UID:5896-1772362800-1772384400@diveindy.com
SUMMARY:Open Water Diver - Class
DESCRIPTION:The SSI Scuba Open Water Diver Course presents a remarkable opportunity for individuals eager to immerse themselves in the captivating world beneath the ocean’s surface. Whether you possess an insatiable curiosity for marine life\, a deep-seated appreciation for the natural world\, or simply a thirst for adventure\, scuba diving promises an avenue for endless exploration and discovery. Within this article\, we will delve into the intricacies of the SSI Scuba Open Water Diver Course\, elucidating its contents and explaining why it represents the perfect starting point for those embarking on their underwater odyssey. \nUnderstanding the SSI Scuba Open Water Diver Course \nThe SSI Scuba Open Water Diver Course stands as a comprehensive and internationally renowned scuba diving certification program. Its primary objective is to equip beginners with the fundamental knowledge and skills essential for safe and conscientious underwater exploration. \nCourse Highlights \n– Educational Modules: The course commences with an array of engaging and informative online modules. Here\, you will delve into the scientific aspects of diving\, the intricacies of underwater physiology\, equipment usage\, dive planning\, and critical safety protocols. The online format affords you the freedom to advance at your own pace\, accommodating even the most demanding schedules. \n– Confined Water Training (Part 1): Following the theoretical component\, you will put your newfound knowledge into practice through hands-on training sessions conducted in a controlled pool environment. A certified SSI Instructor will expertly guide you through pivotal scuba skills\, including mastery of buoyancy control\, mask clearing\, and execution of emergency procedures. These exercises will continue until you exude confidence and comfort beneath the water’s surface. \n– Open Water Dives: (Part 2) The zenith of the course materializes during the open water dives. Here\, you will apply your acquired knowledge and skills in genuine underwater settings such as oceans\, lakes\, or quarries. These immersive experiences provide a unique opportunity to explore enchanting underwater realms\, encounter diverse marine life\, and further hone your skills under the tutelage of your seasoned instructor. \nWhy Opt for the SSI Scuba Open Water Diver Course? \nFlexible Learning: The online learning platform delivers a flexible approach to study\, enabling learners to progress at their preferred pace—a significant advantage for individuals with diverse schedules. \nGlobal Recognition: SSI enjoys international recognition as a certification agency\, guaranteeing the acceptance of your certification at dive centers and resorts spanning the globe. \nSafety at the Forefront: Safety ranks as a paramount concern in scuba diving\, and the SSI Scuba Open Water Diver Course ensures comprehensive preparation through the acquisition of essential knowledge and skills for safe diving. \nEnvironmental Responsibility: SSI is committed to promoting responsible diving practices\, including marine conservation and the cultivation of reverence for aquatic ecosystems. \nUnforgettable Adventures: Scuba diving unlocks the doors to extraordinary underwater escapades. Whether it entails the exploration of vibrant coral reefs teeming with marine life or the unraveling of the mysteries concealed within historic shipwrecks\, there exists an adventure tailored to the desires of every intrepid explorer. \nConclusion \nThe SSI Scuba Open Water Diver Course constitutes the gateway to a realm of adventure and awe concealed beneath the water’s surface. Whether your aspirations involve the exploration of oceanic enigmas\, interaction with captivating marine denizens\, or the pursuit of serenity amidst submerged environments\, this course serves as the inaugural step on your scuba diving odyssey. Seize this opportunity now and embark on your scuba diving journey—an underwater universe awaits your exploration. \nWHAT’S INCLUDED \nBCD\, Regulators\, Computer/Gauges\, Weights\, Air fills and Scuba Tank for all “Confined Water Training”\nCourseware\, Academic and Confined Sessions\nAll scuba equipment for your “Confined Water Sessions”\nSSI Open Water Instructor \nREQUIRED BY STUDENT \nMask\, Snorkel\, Dive Boots\, and Fins\nOptional student rental package for “Open Water Checkout Dives”. ($75.00) \n\nMinimum Age: 10\nCertification Prerequisites: Complete Medical Release Form prior to in-water training! (If required)\nAcademic Sessions: Online Program\nWater Sessions: 7\nMaximum Training Depth: 18 meters / 60 feet (age 15+)\nSuggested Duration: 16 – 32 hours\nQualification Swim: 200 yards and 10 Min Tread\n\n  \nWhat’s Next? \nClick HERE to see available training dates to complete your Open Water Checkout Dives. \n  \nDue to the nature of scuba training\, we cannot offer refunds on classes.
URL:https://diveindy.com/event/open-water-diver-class-03-01-26/
LOCATION:Westfield YMCA\, 874 Virginia Rose Ave\, Westfield\, IN\, 46074\, United States
CATEGORIES:Calendar,Event
ATTACH;FMTTYPE=image/png:https://diveindy.com/wp-content/uploads/2018/12/Open-Water-Diver-updated-1.png
ORGANIZER;CN="Indy Dive Center":MAILTO:support@diveindy.com
END:VEVENT
BEGIN:VEVENT
DTSTART;TZID=America/Indiana/Indianapolis:20260314T120000
DTEND;TZID=America/Indiana/Indianapolis:20260314T160000
DTSTAMP:20260420T014752
CREATED:20260114T214422Z
LAST-MODIFIED:20260114T214503Z
UID:5924-1773489600-1773504000@diveindy.com
SUMMARY:2026 Luck Dive - Cold Water Dive
DESCRIPTION:Ready to break out those new scuba toys? \nIndy Dive Center will be open for our earliest cold water dive of the season on Saturday\, March 14th from 12pm – 4pm at France Park!  \nThe water will be cool\, but beautiful. \nMinimum 7mm wetsuits with hoods and gloves recommended for this dive. \nIf necessary\, we will provide supplemental heat around the kit up areas and hot coco\, however divers should still come prepared for the weather. \nWe hope to see everyone there as we roll into a great 2026 season! \nLet’s go diving! \n  \nPssst… Don’t forget to complete your digital waiver for diving with us this season! \n  \nYou can use the following link to complete your digital waiver: \nhttps://waiver.smartwaiver.com/v/scuba/
URL:https://diveindy.com/event/luck-dive-cold-water-dive-2026/
LOCATION:France Park\, 4505 US-24\, Logansport\, IN\, 46947\, United States
CATEGORIES:Calendar,Event
ATTACH;FMTTYPE=image/jpeg:https://diveindy.com/wp-content/uploads/2026/01/St-Patricks-Day-2.jpeg
ORGANIZER;CN="Indy Dive Center":MAILTO:support@diveindy.com
END:VEVENT
BEGIN:VEVENT
DTSTART;TZID=America/Indiana/Indianapolis:20260328T080000
DTEND;TZID=America/Indiana/Indianapolis:20260328T170000
DTSTAMP:20260420T014752
CREATED:20260111T230214Z
LAST-MODIFIED:20260111T230217Z
UID:5901-1774684800-1774717200@diveindy.com
SUMMARY:Open Water Diver - Class
DESCRIPTION:The SSI Scuba Open Water Diver Course presents a remarkable opportunity for individuals eager to immerse themselves in the captivating world beneath the ocean’s surface. Whether you possess an insatiable curiosity for marine life\, a deep-seated appreciation for the natural world\, or simply a thirst for adventure\, scuba diving promises an avenue for endless exploration and discovery. Within this article\, we will delve into the intricacies of the SSI Scuba Open Water Diver Course\, elucidating its contents and explaining why it represents the perfect starting point for those embarking on their underwater odyssey. \nUnderstanding the SSI Scuba Open Water Diver Course \nThe SSI Scuba Open Water Diver Course stands as a comprehensive and internationally renowned scuba diving certification program. Its primary objective is to equip beginners with the fundamental knowledge and skills essential for safe and conscientious underwater exploration. \nCourse Highlights \n– Educational Modules: The course commences with an array of engaging and informative online modules. Here\, you will delve into the scientific aspects of diving\, the intricacies of underwater physiology\, equipment usage\, dive planning\, and critical safety protocols. The online format affords you the freedom to advance at your own pace\, accommodating even the most demanding schedules. \n– Confined Water Training (Part 1): Following the theoretical component\, you will put your newfound knowledge into practice through hands-on training sessions conducted in a controlled pool environment. A certified SSI Instructor will expertly guide you through pivotal scuba skills\, including mastery of buoyancy control\, mask clearing\, and execution of emergency procedures. These exercises will continue until you exude confidence and comfort beneath the water’s surface. \n– Open Water Dives: (Part 2) The zenith of the course materializes during the open water dives. Here\, you will apply your acquired knowledge and skills in genuine underwater settings such as oceans\, lakes\, or quarries. These immersive experiences provide a unique opportunity to explore enchanting underwater realms\, encounter diverse marine life\, and further hone your skills under the tutelage of your seasoned instructor. \nWhy Opt for the SSI Scuba Open Water Diver Course? \nFlexible Learning: The online learning platform delivers a flexible approach to study\, enabling learners to progress at their preferred pace—a significant advantage for individuals with diverse schedules. \nGlobal Recognition: SSI enjoys international recognition as a certification agency\, guaranteeing the acceptance of your certification at dive centers and resorts spanning the globe. \nSafety at the Forefront: Safety ranks as a paramount concern in scuba diving\, and the SSI Scuba Open Water Diver Course ensures comprehensive preparation through the acquisition of essential knowledge and skills for safe diving. \nEnvironmental Responsibility: SSI is committed to promoting responsible diving practices\, including marine conservation and the cultivation of reverence for aquatic ecosystems. \nUnforgettable Adventures: Scuba diving unlocks the doors to extraordinary underwater escapades. Whether it entails the exploration of vibrant coral reefs teeming with marine life or the unraveling of the mysteries concealed within historic shipwrecks\, there exists an adventure tailored to the desires of every intrepid explorer. \nConclusion \nThe SSI Scuba Open Water Diver Course constitutes the gateway to a realm of adventure and awe concealed beneath the water’s surface. Whether your aspirations involve the exploration of oceanic enigmas\, interaction with captivating marine denizens\, or the pursuit of serenity amidst submerged environments\, this course serves as the inaugural step on your scuba diving odyssey. Seize this opportunity now and embark on your scuba diving journey—an underwater universe awaits your exploration. \nWHAT’S INCLUDED \nBCD\, Regulators\, Computer/Gauges\, Weights\, Air fills and Scuba Tank for all “Confined Water Training”\nCourseware\, Academic and Confined Sessions\nAll scuba equipment for your “Confined Water Sessions”\nSSI Open Water Instructor \nREQUIRED BY STUDENT \nMask\, Snorkel\, Dive Boots\, and Fins\nOptional student rental package for “Open Water Checkout Dives”. ($75.00) \n\nMinimum Age: 10\nCertification Prerequisites: Complete Medical Release Form prior to in-water training! (If required)\nAcademic Sessions: Online Program\nWater Sessions: 7\nMaximum Training Depth: 18 meters / 60 feet (age 15+)\nSuggested Duration: 16 – 32 hours\nQualification Swim: 200 yards and 10 Min Tread\n\n  \nWhat’s Next? \nClick HERE to see available training dates to complete your Open Water Checkout Dives. \n  \nDue to the nature of scuba training\, we cannot offer refunds on classes.
URL:https://diveindy.com/event/open-water-diver-class-03-28-26/
LOCATION:Westfield YMCA\, 874 Virginia Rose Ave\, Westfield\, IN\, 46074\, United States
CATEGORIES:Calendar,Event
ATTACH;FMTTYPE=image/png:https://diveindy.com/wp-content/uploads/2018/12/Open-Water-Diver-updated-1.png
ORGANIZER;CN="Indy Dive Center":MAILTO:support@diveindy.com
END:VEVENT
END:VCALENDAR