BEGIN:VCALENDAR
VERSION:2.0
PRODID:-//Indy Dive Center - ECPv6.15.20//NONSGML v1.0//EN
CALSCALE:GREGORIAN
METHOD:PUBLISH
X-WR-CALNAME:Indy Dive Center
X-ORIGINAL-URL:https://diveindy.com
X-WR-CALDESC:Events for Indy Dive Center
REFRESH-INTERVAL;VALUE=DURATION:PT1H
X-Robots-Tag:noindex
X-PUBLISHED-TTL:PT1H
BEGIN:VTIMEZONE
TZID:America/Indiana/Indianapolis
BEGIN:DAYLIGHT
TZOFFSETFROM:-0500
TZOFFSETTO:-0400
TZNAME:EDT
DTSTART:20240310T070000
END:DAYLIGHT
BEGIN:STANDARD
TZOFFSETFROM:-0400
TZOFFSETTO:-0500
TZNAME:EST
DTSTART:20241103T060000
END:STANDARD
BEGIN:DAYLIGHT
TZOFFSETFROM:-0500
TZOFFSETTO:-0400
TZNAME:EDT
DTSTART:20250309T070000
END:DAYLIGHT
BEGIN:STANDARD
TZOFFSETFROM:-0400
TZOFFSETTO:-0500
TZNAME:EST
DTSTART:20251102T060000
END:STANDARD
BEGIN:DAYLIGHT
TZOFFSETFROM:-0500
TZOFFSETTO:-0400
TZNAME:EDT
DTSTART:20260308T070000
END:DAYLIGHT
BEGIN:STANDARD
TZOFFSETFROM:-0400
TZOFFSETTO:-0500
TZNAME:EST
DTSTART:20261101T060000
END:STANDARD
END:VTIMEZONE
BEGIN:VEVENT
DTSTART;TZID=America/Indiana/Indianapolis:20251004T110000
DTEND;TZID=America/Indiana/Indianapolis:20251004T160000
DTSTAMP:20260420T105621
CREATED:20250819T205635Z
LAST-MODIFIED:20250819T205636Z
UID:5762-1759575600-1759593600@diveindy.com
SUMMARY:React Right - Class
DESCRIPTION:React Right is SSI’s emergency training program\, consisting of the following basic components: Primary Assessment\, First Aid & CPR Skills\, Primary Stabilization Techniques\, and includes two optional components: Oxygen Administration in Diving Emergencies and Automated External Defibrilation Basics. Students who complete this program earn the SSI React Right specialty certification.
URL:https://diveindy.com/event/react-right-class-10-4-25/
LOCATION:Delphi Development Center\, 104 W. Main St.\, Delphi\, Indiana\, 46923\, United States
CATEGORIES:Calendar,Event
ATTACH;FMTTYPE=image/jpeg:https://diveindy.com/wp-content/uploads/2018/12/React-Right-Small.jpg
ORGANIZER;CN="Indy Dive Center":MAILTO:support@diveindy.com
END:VEVENT
BEGIN:VEVENT
DTSTART;TZID=America/Indiana/Indianapolis:20251004T110000
DTEND;TZID=America/Indiana/Indianapolis:20251004T160000
DTSTAMP:20260420T105621
CREATED:20250819T211332Z
LAST-MODIFIED:20250819T211333Z
UID:5769-1759575600-1759593600@diveindy.com
SUMMARY:Science of Diving - Class
DESCRIPTION:Science of Diving program provides an in-depth and detailed study of physics\, physiology\, decompression theory\, the aquatic environment and diving equipment. It is required training for most SSI Dive Professional programs\, as well as some Extended Range programs. You will earn the SSI Science of Diving Specialty certification after completing this program.
URL:https://diveindy.com/event/science-of-diving-class-10-4-25/
LOCATION:Delphi Development Center\, 104 W. Main St.\, Delphi\, Indiana\, 46923\, United States
CATEGORIES:Calendar,Event
ATTACH;FMTTYPE=image/jpeg:https://diveindy.com/wp-content/uploads/2020/12/Science-of-Diving.jpg
ORGANIZER;CN="Indy Dive Center":MAILTO:support@diveindy.com
END:VEVENT
BEGIN:VEVENT
DTSTART;TZID=America/Indiana/Indianapolis:20251005T080000
DTEND;TZID=America/Indiana/Indianapolis:20251005T170000
DTSTAMP:20260420T105621
CREATED:20250819T205037Z
LAST-MODIFIED:20250819T205039Z
UID:5758-1759651200-1759683600@diveindy.com
SUMMARY:32nd Annual Treasure Hunt by Divers' Supply Indy
DESCRIPTION:https://www.diverssupplyindy.com/…/32nd-annual-treasure…\n\nAdvanced registration required to get your share of scuba treasure!Sign up online (see Trips) at Diverssupplyindy.com or give us a call 317-897-2822.\n———————————————————————Join us for the 32nd Annual Treasure Hunt by Divers’ Supply Indy!\nDive\, eat\, connect and with the scuba community on Sunday\, October 5th at 11am at France Park. What is the Treasure Hunt?\nDive in to France Park and find your numbered treasure ball (1 treasure/diver) Enjoy a cookout and conversation with leading dive equipment manufacturer represents. Wait for your lucky number to be called to find out what treasure you won.\n\nAdvanced registration required to get your share of scuba treasure!Sign up online (see Trips) at Diverssupplyindy.com or give us a call 317-897-2822.\nNoon Friday\, October 3th\, last day to register.\nEquipment rental available on a first come first serve basis on site or rent your equipment in advance through Divers’ Supply Indy.\n\nRegular admission of $25 per diver still applies at check in for diving at France Park.\nDon’t forget your waiver for diving at France Park.\n\nFollow the link below to register before the deadline!\nhttps://www.diverssupplyindy.com/…/32nd-annual-treasure…\n\n\nDon’t forget to dress for the weather\, and bring your camping chairs to sit in for announcements and prize drawings.
URL:https://diveindy.com/event/32nd-annual-treasure-hunt-by-divers-supply-indy/
LOCATION:France Park\, 4505 US-24\, Logansport\, IN\, 46947\, United States
CATEGORIES:Calendar,Event
ATTACH;FMTTYPE=image/png:https://diveindy.com/wp-content/uploads/2025/08/Treasure-Hunt-10.5.25-2025.png
ORGANIZER;CN="Divers Supply Indy":MAILTO:support@diverssupplyindy.com
END:VEVENT
BEGIN:VEVENT
DTSTART;TZID=America/Indiana/Indianapolis:20251006T183000
DTEND;TZID=America/Indiana/Indianapolis:20251006T203000
DTSTAMP:20260420T105621
CREATED:20250819T191218Z
LAST-MODIFIED:20250819T191219Z
UID:5732-1759775400-1759782600@diveindy.com
SUMMARY:Marine Ecology - Class
DESCRIPTION:In the SSI Marine Ecology specialty program\, you will learn how ocean organisms interact with each other and their environments. You will be taught how energy flows through communities and the links between different ocean ecosystems. \nWith your newfound knowledge\, you will appreciate the marine life you dive with even more! Start online today and earn your SSI Marine Ecology Specialty certification.
URL:https://diveindy.com/event/marine-ecology-class-10-6-25/
LOCATION:Virtual
CATEGORIES:Calendar,Event
ATTACH;FMTTYPE=image/jpeg:https://diveindy.com/wp-content/uploads/2020/11/Marine-Eco-1.jpg
ORGANIZER;CN="Indy Dive Center":MAILTO:support@diveindy.com
END:VEVENT
BEGIN:VEVENT
DTSTART;TZID=America/Indiana/Indianapolis:20251008T190000
DTEND;TZID=America/Indiana/Indianapolis:20251008T203000
DTSTAMP:20260420T105621
CREATED:20250819T191835Z
LAST-MODIFIED:20250819T191836Z
UID:5736-1759950000-1759955400@diveindy.com
SUMMARY:Shark Ecology - Class
DESCRIPTION:In the SSI Shark Ecology program\, you will learn how to interpret shark behaviors\, why they are often misunderstood and how dive with sharks. This is a perfect course for shark fans and for divers who are nervous about sharks but want to overcome their fear. Upon completion of this program\, you will earn your SSI Shark Ecology Specialty certification and no doubt become an avid shark diver.
URL:https://diveindy.com/event/shark-ecology-class-10-8-25/
LOCATION:Virtual
CATEGORIES:Calendar,Event
ATTACH;FMTTYPE=image/jpeg:https://diveindy.com/wp-content/uploads/2021/12/shark-ecology.jpg
ORGANIZER;CN="Indy Dive Center":MAILTO:support@diveindy.com
END:VEVENT
BEGIN:VEVENT
DTSTART;TZID=America/Indiana/Indianapolis:20251013T190000
DTEND;TZID=America/Indiana/Indianapolis:20251013T203000
DTSTAMP:20260420T105621
CREATED:20250819T192306Z
LAST-MODIFIED:20250819T192307Z
UID:5738-1760382000-1760387400@diveindy.com
SUMMARY:Sea Turtle Ecology - Class
DESCRIPTION:Sea turtles are some of the most wonderful animals to dive with. You will want to dive with them even more after completing the SSI Sea Turtle Ecology Specialty program! This specialty program provides the skills and concepts you need to recognize and identify common sea turtle species. It teaches you about the fascinating history of sea turtles\, their role in marine ecosystems and threats to their survival. Upon completion\, you will earn the SSI Sea Turtle Ecology Specialty certification.
URL:https://diveindy.com/event/sea-turtle-ecology-class-10-13-25/
LOCATION:Virtual
CATEGORIES:Calendar,Event
ATTACH;FMTTYPE=image/png:https://diveindy.com/wp-content/uploads/2021/12/Sea-Turtle-Ecology.png
ORGANIZER;CN="Indy Dive Center":MAILTO:support@diveindy.com
END:VEVENT
BEGIN:VEVENT
DTSTART;TZID=America/Indiana/Indianapolis:20251015T190000
DTEND;TZID=America/Indiana/Indianapolis:20251015T203000
DTSTAMP:20260420T105621
CREATED:20250819T192806Z
LAST-MODIFIED:20250819T192807Z
UID:5740-1760554800-1760560200@diveindy.com
SUMMARY:Marine Mammals - Class
DESCRIPTION:In the SSI Marine Mammal specialty program\, you will learn about the ecology of the world’s whales\, dolphins\, and more! \nYou will learn how to distinguish groups of marine mammals and understand how essential they are to their home ecosystems. \nJoin us and earn your Marine Mammal specialty certification today!
URL:https://diveindy.com/event/marine-mammals-class-10-15-25/
LOCATION:Virtual
CATEGORIES:Calendar,Event
ATTACH;FMTTYPE=image/png:https://diveindy.com/wp-content/uploads/2022/08/Marine-Mammals-1.png
ORGANIZER;CN="Indy Dive Center":MAILTO:support@diveindy.com
END:VEVENT
BEGIN:VEVENT
DTSTART;TZID=America/Indiana/Indianapolis:20251018T090000
DTEND;TZID=America/Indiana/Indianapolis:20251018T150000
DTSTAMP:20260420T105621
CREATED:20250819T202642Z
LAST-MODIFIED:20250819T202643Z
UID:5746-1760778000-1760799600@diveindy.com
SUMMARY:Perfect Buoyancy - Class
DESCRIPTION:Tired of asking someone how much weight you need or being the first of the group to use all your air. Want to glide through the water and not be that diver that is constantly struggling to stay off the bottom? Then consider continuing your education with the IDC’s Perfect Buoyancy course. \n\nThis is not your standard Perfect Buoyancy course. The Indy Dive Center has tuned the course to provide you with the skills to finely control your buoyancy underwater. \n\nBuoyancy control is what defines skilled scuba divers. You’ve seen them underwater. They glide effortlessly\, use less air and ascend\, descend or hover almost as if by thought. They more easily observe aquatic life without disturbing their surroundings. You can achieve this\, too. The SSI Perfect Buoyancy Specialty course improves the buoyancy skills you learned as a new diver and elevates you to the next level. \nThe SSI Perfect Buoyancy program teaches you the skills and techniques needed to maximize your dive experience\, increase your comfort in the water\, and get the most from your equipment. You will earn the SSI Perfect Buoyancy Control Specialty certification.
URL:https://diveindy.com/event/perfect-buoyancy-class-10-18-25/
LOCATION:Delphi Development Center\, 104 W. Main St.\, Delphi\, Indiana\, 46923\, United States
CATEGORIES:Calendar,Event
ATTACH;FMTTYPE=image/jpeg:https://diveindy.com/wp-content/uploads/2018/11/Perfect-Buoyancy1.jpg
ORGANIZER;CN="Indy Dive Center":MAILTO:support@diveindy.com
END:VEVENT
BEGIN:VEVENT
DTSTART;TZID=America/Indiana/Indianapolis:20251018T160000
DTEND;TZID=America/Indiana/Indianapolis:20251018T220000
DTSTAMP:20260420T105621
CREATED:20251013T163606Z
LAST-MODIFIED:20251013T163608Z
UID:5833-1760803200-1760824800@diveindy.com
SUMMARY:Jack-O-Lantern Night Dive 10.18.25
DESCRIPTION:You have asked\, and we have listened! \nJoin us at Indy Dive Center France Park on Saturday\, October 18th for one last night dive for the 2025 season! \nBring your own pumpkin and carve it (bring your dive knife!) on one of the platforms. \nWe will provide a weight and glow stick for you to leave in your Jack-O-Lantern and leave it on either our shallow\, or main lower training platform for other divers to view between 7-10pm! \nDivers can go back to collect their pumpkins at the end of the dive\, or leave them and our team will collect the glow sticks (provided) and feed the remaining jack-o-lanterns to the hungry bluegill! (Fish love pumpkin!) \n  \nWater temperatures and conditions have been varying well this October. Paddlefish have been very active and divers are still reporting freshwater jellyfish! \nFrance Park is currently (as of 10.13.25) a low of 69 degrees at the bottom. \nNight Divers are asked to have at least one flashlight and tank lights are requested. \nRegular admission applies for night diving. \nLet’s go diving! \n  \n 
URL:https://diveindy.com/event/jack-o-lantern-night-dive-10-18-25/
LOCATION:France Park\, 4505 US-24\, Logansport\, IN\, 46947\, United States
CATEGORIES:Calendar,Event
ATTACH;FMTTYPE=image/png:https://diveindy.com/wp-content/uploads/2025/10/Pumpkin-Carving-Night-Dive-10.18.25-square.png
ORGANIZER;CN="Indy Dive Center":MAILTO:support@diveindy.com
END:VEVENT
BEGIN:VEVENT
DTSTART;TZID=America/Indiana/Indianapolis:20251019T080000
DTEND;TZID=America/Indiana/Indianapolis:20251019T120000
DTSTAMP:20260420T105621
CREATED:20250819T202820Z
LAST-MODIFIED:20250819T202821Z
UID:5748-1760860800-1760875200@diveindy.com
SUMMARY:Perfect Buoyancy - Class
DESCRIPTION:Tired of asking someone how much weight you need or being the first of the group to use all your air. Want to glide through the water and not be that diver that is constantly struggling to stay off the bottom? Then consider continuing your education with the IDC’s Perfect Buoyancy course. \n\nThis is not your standard Perfect Buoyancy course. The Indy Dive Center has tuned the course to provide you with the skills to finely control your buoyancy underwater. \n\nBuoyancy control is what defines skilled scuba divers. You’ve seen them underwater. They glide effortlessly\, use less air and ascend\, descend or hover almost as if by thought. They more easily observe aquatic life without disturbing their surroundings. You can achieve this\, too. The SSI Perfect Buoyancy Specialty course improves the buoyancy skills you learned as a new diver and elevates you to the next level. \nThe SSI Perfect Buoyancy program teaches you the skills and techniques needed to maximize your dive experience\, increase your comfort in the water\, and get the most from your equipment. You will earn the SSI Perfect Buoyancy Control Specialty certification.
URL:https://diveindy.com/event/perfect-buoyancy-class-10-19-25/
LOCATION:France Park\, 4505 US-24\, Logansport\, IN\, 46947\, United States
CATEGORIES:Calendar,Event
ATTACH;FMTTYPE=image/jpeg:https://diveindy.com/wp-content/uploads/2018/11/Perfect-Buoyancy1.jpg
ORGANIZER;CN="Indy Dive Center":MAILTO:support@diveindy.com
END:VEVENT
BEGIN:VEVENT
DTSTART;TZID=America/Indiana/Indianapolis:20251020T190000
DTEND;TZID=America/Indiana/Indianapolis:20251020T203000
DTSTAMP:20260420T105621
CREATED:20250819T193049Z
LAST-MODIFIED:20250819T193050Z
UID:5742-1760986800-1760992200@diveindy.com
SUMMARY:Manta and Ray Ecology - Class
DESCRIPTION:Join the SSI Manta and Ray Ecology specialty program and you will learn how to dive with rays and recognize different ray species. You will be taught how rays contribute to healthy ocean ecosystems and why these precious animals need our protection.
URL:https://diveindy.com/event/manta-and-ray-ecology-class-10-20-25/
LOCATION:Virtual
CATEGORIES:Calendar,Event
ATTACH;FMTTYPE=image/png:https://diveindy.com/wp-content/uploads/2021/12/mant-and-ray-eco-.png
ORGANIZER;CN="Indy Dive Center":MAILTO:support@diveindy.com
END:VEVENT
BEGIN:VEVENT
DTSTART;TZID=America/Indiana/Indianapolis:20251022T190000
DTEND;TZID=America/Indiana/Indianapolis:20251022T203000
DTSTAMP:20260420T105621
CREATED:20250819T193643Z
LAST-MODIFIED:20250819T193645Z
UID:5744-1761159600-1761165000@diveindy.com
SUMMARY:Fish Identification - Class
DESCRIPTION:The world’s oceans are home to thousands of fish species\, and you will encounter plenty of these fascinating creatures on your dives! In this course\, you will be taught all the skills and concepts you need to identify common families of Caribbean\, Indo-Pacific and Red Sea reef fish. Upon completion\, you will earn your SSI Fish Identification specialty certification.
URL:https://diveindy.com/event/fish-identification-class-10-22-25/
LOCATION:Virtual
CATEGORIES:Calendar,Event
ATTACH;FMTTYPE=image/png:https://diveindy.com/wp-content/uploads/2021/12/Fish-ID-Ecology.png
ORGANIZER;CN="Indy Dive Center":MAILTO:support@diveindy.com
END:VEVENT
END:VCALENDAR